BEGIN:VCALENDAR
VERSION:2.0
PRODID:-//ESSE Musicbar Winterthur//NONSGML kigkonsult.se iCalcreator 2.41.92//
CALSCALE:GREGORIAN
METHOD:PUBLISH
UID:30333930-3566-4636-b930-616638663635
X-WR-CALNAME:iCagenda
X-WR-CALDESC:Event Management Extension for Joomla!
X-WR-RELCALID:3E26604A-50F4-4449-8B3E-E4F4932D05B5
X-WR-TIMEZONE:Europe/Zurich
BEGIN:VTIMEZONE
TZID:Europe/Zurich
TZUNTIL:20211031T010000Z
BEGIN:STANDARD
TZNAME:CET
DTSTART:20191027T030000
TZOFFSETFROM:+0200
TZOFFSETTO:+0100
RDATE:20201025T030000
END:STANDARD
BEGIN:DAYLIGHT
TZNAME:CEST
DTSTART:20190331T020000
TZOFFSETFROM:+0100
TZOFFSETTO:+0200
RDATE:20200329T020000
RDATE:20210328T020000
END:DAYLIGHT
END:VTIMEZONE
BEGIN:VEVENT
UID:31373131-6330-4437-a336-373832313763
DTSTAMP:20260420T083226Z
CATEGORIES:Jazz
CLASS:PUBLIC
DESCRIPTION;ALTREP="CID:<FFFF__=0ABBE548DFE235B58f9e8a93d@coffeebean.com>":
 Jörg Enz gehört zu der Generation jüngerer Gitarristen\, die im Modern-Jaz
 z zu Hause sind. Sein Handwerk hat er zu grossen Teilen in den USA gelernt
 \, wo er in den vergangenen Jahren viel Zeit verbrachte. Die New Yorker Sz
 ene lieferte ihm dabei eine Steilvorlage\, hier hat er sich nachhaltig ins
 pirieren lassen. Einen Namen hat sich Jörg Enz in den vergangenen Jahren v
 or allem im Süden der Republik und in der Schweiz gemacht\, nicht nur mit 
 seinem eigenen Trio\, sondern auch in der Zusammenarbeit mit nationalen un
 d internationalen bekannten Grössen des Jazz.\nSpezialisiert hat er sich i
 n den letzten Jahren unter anderem auf das klassische Hammond-Trio\, bei d
 er die berüchtigte Hammond B3-Orgel aus den sechziger Jahren und das Schla
 gzeug zum Einsatz kommt. Das Debut-Album des JÖRG ENZ ORGANIC TRIOs erschi
 en im Jahr 2012 in Zusammenarbeit mit dem Südwestrundfunk und dokumentiert
  eine organische musikalische Einheit\, deren Reiz aus der Mischung des fe
 tten Klanges der originalen Hammond-Orgel und der glasklaren Jazz-Gitarre 
 besteht.\nEnz arbeitet seit 2017 mit einer neuen Besetzung\, die dem Sound
  des Trios weitere musikalische Impulse geliefert hat: zur aktuellen Forma
 tion gehören der Freiburger Hammond-Organist Thomas Bauser und der Stuttga
 rter Schlagzeuger Ferenc Mehl.Die Combo um den Jazzgitarristen wird als mu
 sikalischer Leckerbissen gehandelt\, nicht zuletzt deshalb\, weil sie die 
 originale Hammond-B3-Orgel im Gepäck hat welche nicht nur für Liebhaber ei
 n Publikumsmagnet ist.\nJörg Enz (g)\, Thomas Bauser (org)\, Ferenc Mehl (
 dr)\nwww.joergenz.de
DTSTART:20191107T191500Z
DTEND:20191107T191500Z
GEO:00;0
LOCATION:
ORGANIZER:
SEQUENCE:1
SUMMARY:Jörg Enz Organic Trio
TRANSP:OPAQUE
URL:https://www.esse.bar/index.php/veranstaltungen/vergangene-veranstaltung
 en/1068-joerg-enz-organic-trio/2019-11-07-20-15
END:VEVENT
END:VCALENDAR
