BEGIN:VCALENDAR
VERSION:2.0
PRODID:-//ESSE Musicbar Winterthur//NONSGML kigkonsult.se iCalcreator 2.41.92//
CALSCALE:GREGORIAN
METHOD:PUBLISH
UID:39396439-3030-4161-b039-323962333061
X-WR-CALNAME:iCagenda
X-WR-CALDESC:Event Management Extension for Joomla!
X-WR-RELCALID:3E26604A-50F4-4449-8B3E-E4F4932D05B5
X-WR-TIMEZONE:Europe/Zurich
BEGIN:VTIMEZONE
TZID:Europe/Zurich
TZUNTIL:20211031T010000Z
BEGIN:STANDARD
TZNAME:CET
DTSTART:20191027T030000
TZOFFSETFROM:+0200
TZOFFSETTO:+0100
RDATE:20201025T030000
END:STANDARD
BEGIN:DAYLIGHT
TZNAME:CEST
DTSTART:20190331T020000
TZOFFSETFROM:+0100
TZOFFSETTO:+0200
RDATE:20200329T020000
RDATE:20210328T020000
END:DAYLIGHT
END:VTIMEZONE
BEGIN:VEVENT
UID:62613339-3638-4662-b737-336466666237
DTSTAMP:20260420T093406Z
CATEGORIES:Jazz
CLASS:PUBLIC
DESCRIPTION;ALTREP="CID:<FFFF__=0ABBE548DFE235B58f9e8a93d@coffeebean.com>":
 Alle Sitzplätze sind bereits gebucht\, es sind nur noch Stehplätze verfügb
 ar!\nKeine Tasten\, keine Saiten\, ohne Helm und ohne Sicherheitsgurt – da
 für mit viel Raum für neue Klänge: So präsentiert sich das neuste Projekt 
 von Marianne Racine\, der Grande Dame des Schweizer Gesangs. Racine Rhythm
  &amp\; Horns\, das ganz ohne Akkordinstrumente auskommt\, ist ein intimes
 \, spannungsgeladenes Tête-à-Tête zwischen einer markanten\, aber sensibel
  agierenden Bläserfront und einer wunderbaren\, warmen Stimme.\nDie fünf J
 azz-Cats sind wahre Poeten auf ihrem Instrument. Mit einer guten Portion S
 chalk singt und erzählt uns Marianne Racine auf eine wundervoll mitreissen
 de Art von Geschichten\, die das Leben schreibt. Als Inspiration und Auslö
 ser dieses Projektes könnte man Gerry Mulligan\, Chet Baker oder Annie Ros
 s nennen\, die bereits in den 50er-Jahren diese ungewöhnliche Besetzung oh
 ne Akkordinstrument lancierten. Tatsächlich büsst das Klangbild jedoch nic
 hts an Sangbarkeit ein. Mit dem Sound der schlanken Bigband perlen Jazzson
 gs in neuem Licht und Transparenz.\nMit «Common Ground» präsentiert das Qu
 intett an diesem Abend ein faszinierendes\, live in der ESSE aufgezeichnet
 es Album\, das altbekannte Jazzperlen in neuem Licht erscheinen lässt. \nM
 arianne Racine (voc)\, Daniel Baschnagel (tp)\, Matthias Tschopp (bs)\, Pa
 trick Sommer (db)\, Andi Wettstein (dr)\nwww.racinevoc.ch
DTSTART:20200124T191500Z
DTEND:20200124T191500Z
GEO:00;0
LOCATION:
ORGANIZER:
SEQUENCE:1
SUMMARY:Racine Rhythm & Horns – Common Ground
TRANSP:OPAQUE
URL:https://www.esse.bar/index.php/veranstaltungen/vergangene-veranstaltung
 en/1113-mariann-racine-quintet/2020-01-24-20-15
END:VEVENT
END:VCALENDAR
