BEGIN:VCALENDAR
VERSION:2.0
PRODID:-//ESSE Musicbar Winterthur//NONSGML kigkonsult.se iCalcreator 2.41.92//
CALSCALE:GREGORIAN
METHOD:PUBLISH
UID:38666330-3530-4237-a334-316334646466
X-WR-CALNAME:iCagenda
X-WR-CALDESC:Event Management Extension for Joomla!
X-WR-RELCALID:3E26604A-50F4-4449-8B3E-E4F4932D05B5
X-WR-TIMEZONE:Europe/Zurich
BEGIN:VTIMEZONE
TZID:Europe/Zurich
TZUNTIL:20231029T010000Z
BEGIN:STANDARD
TZNAME:CET
DTSTART:20201025T030000
TZOFFSETFROM:+0200
TZOFFSETTO:+0100
RDATE:20211031T030000
RDATE:20221030T030000
END:STANDARD
BEGIN:DAYLIGHT
TZNAME:CEST
DTSTART:20210328T020000
TZOFFSETFROM:+0100
TZOFFSETTO:+0200
RDATE:20220327T020000
RDATE:20230326T020000
END:DAYLIGHT
END:VTIMEZONE
BEGIN:VEVENT
UID:31306236-6466-4364-b761-643536313239
DTSTAMP:20260423T114041Z
CATEGORIES:Jazz
CLASS:PUBLIC
DESCRIPTION;ALTREP="CID:<FFFF__=0ABBE548DFE235B58f9e8a93d@coffeebean.com>":
 Im altehrwürdigen Metier des Klaviertrios haben die drei jungen Musiker vo
 n Stahlwerk ihren eigenen Weg gefunden. Dieser führt sie seit 2013 durch d
 ie Klubs und Konzertlokale Mitteleuropas.\nSo sehr «Stahlwerk» ihrem ureig
 enen Sound zwischen Jazz\, Minimal Music und Klassik treu bleibt\, so expe
 rimentierfreudig zeigt sich die Band bei der Suche nach neuen Ausdrucksfor
 men in ihrem Klangkosmos. Im Spiel des Trios zerfliessen die Grenzen zwisc
 hen Komposition und Improvisation.\nSetlisten gibt es dabei ebenso wenig w
 ie eine vorgefertigte Konzertdramaturgie. Das Publikum nimmt Teil an einem
  spontanen Entstehungsprozess und kann miterleben wie sich die Musiker im 
 freien Zusammenspiel ihren eigenen Kompositionen annähern und sie auch wie
 der verlassen. So gerät jedes Konzert zu einem Unikum\, einer Feier des Mo
 ments\, einer musikalischen Kollektiv-Expedition mit ungewissem Ausgang.\n
 Dominic Stahl (p)\, Francesco Rezzonico (b)\, Tobias Schmid (dr)\nwww.stah
 lwerk-music.chhttps://mx3.ch/stahlwerk
DTSTART:20211008T181500Z
DTEND:20211008T181500Z
GEO:00;0
LOCATION:
ORGANIZER:
SEQUENCE:1
SUMMARY:Stahlwerk
TRANSP:OPAQUE
URL:https://www.esse.bar/index.php/veranstaltungen/vergangene-veranstaltung
 en/1149-stahlwerk/2021-10-08-20-15
END:VEVENT
END:VCALENDAR
