BEGIN:VCALENDAR
VERSION:2.0
PRODID:-//ESSE Musicbar Winterthur//NONSGML kigkonsult.se iCalcreator 2.41.92//
CALSCALE:GREGORIAN
METHOD:PUBLISH
UID:33363833-6138-4031-a633-336631336239
X-WR-CALNAME:iCagenda
X-WR-CALDESC:Event Management Extension for Joomla!
X-WR-RELCALID:3E26604A-50F4-4449-8B3E-E4F4932D05B5
X-WR-TIMEZONE:Europe/Zurich
BEGIN:VTIMEZONE
TZID:Europe/Zurich
TZUNTIL:20240331T010000Z
BEGIN:STANDARD
TZNAME:CET
DTSTART:20211031T030000
TZOFFSETFROM:+0200
TZOFFSETTO:+0100
RDATE:20221030T030000
RDATE:20231029T030000
END:STANDARD
BEGIN:DAYLIGHT
TZNAME:CEST
DTSTART:20220327T020000
TZOFFSETFROM:+0100
TZOFFSETTO:+0200
RDATE:20230326T020000
END:DAYLIGHT
END:VTIMEZONE
BEGIN:VEVENT
UID:66323566-6130-4534-b037-353763336466
DTSTAMP:20260419T231015Z
CATEGORIES:Jazz
CLASS:PUBLIC
DESCRIPTION;ALTREP="CID:<FFFF__=0ABBE548DFE235B58f9e8a93d@coffeebean.com>":
 Hendrik Meurkens gilt im Jazz als wichtigster Mundharmonika-Spieler seit T
 oots Thielemans und studierte dieses Instrument von 1977 bis 1988 am Berkl
 ee College of Music (Quelle: Wikipedia).\nWährend die Mundharmonika aus de
 r Geschichte des Blues nicht wegzudenken ist\, hat sie im Jazz eher ein Sc
 hattendasein gefristet. Wenn allerdings der besagte und unvergessene belgi
 sche Mundharmonika-Virtuose Toots Thielemans das Instrument an seine Lippe
 n führte\, ging im Handumdrehen die Sonne auf. Hendrik Meurkens hat längst
  bewiesen\, dass er als legitimer Nachfolger von Thielmans gelten darf. Me
 urkens spielte ursprünglich Vibraphon\, begann sich dann aber unter dem Ei
 nfluss Thielemans mit der chromatischen Mundharmonika zu befassen. In der 
 Diskographie Meurkens stösst man auf Kooperationen mit amerikanischen\, br
 asilianischen und kubanischen Koryphäen. Er wirkte auch als Filmkomponist 
 (u. a. «Dolores Claiborne»).\nNach wie vor ist Hendrik Meurkens aber auch 
 ein herrvorragender Vibraphonist. 1992 zog er nach New York\, von wo aus e
 r international\, etwa mit dem Trio von Ray Brown\, auf Tournée ging. Mit 
 «Gutfleisch-Schürmann-Frey» steht ihm nun  auf seiner kleinen Schweizer To
 ur ein einfühlsames und etabliertes Schweizer Trio stets swingend zur Seit
 e.\nHendrik Meurkens (vib\, harp)\, Christian Gutfleisch (p)\, Dominik Sch
 ürmann (db)\, Elmar Frey (dr)\nhttps://hendrikmeurkens.com
DTSTART:20220521T181500Z
DTEND:20220521T181500Z
GEO:00;0
LOCATION:
ORGANIZER:
SEQUENCE:1
SUMMARY:Gutfleisch-Schürmann-Frey feat. Hendrik Meurkens
TRANSP:OPAQUE
URL:https://www.esse.bar/index.php/veranstaltungen/vergangene-veranstaltung
 en/1153-gutfleich-schuermann-frey-feat-hendrik-meurkens/2022-05-21-20-15
END:VEVENT
END:VCALENDAR
