BEGIN:VCALENDAR
VERSION:2.0
PRODID:-//ESSE Musicbar Winterthur//NONSGML kigkonsult.se iCalcreator 2.41.92//
CALSCALE:GREGORIAN
METHOD:PUBLISH
UID:62333566-3463-4531-a134-363833653833
X-WR-CALNAME:iCagenda
X-WR-CALDESC:Event Management Extension for Joomla!
X-WR-RELCALID:3E26604A-50F4-4449-8B3E-E4F4932D05B5
X-WR-TIMEZONE:Europe/Zurich
BEGIN:VTIMEZONE
TZID:Europe/Zurich
TZUNTIL:20221030T010000Z
BEGIN:STANDARD
TZNAME:CET
DTSTART:20201025T030000
TZOFFSETFROM:+0200
TZOFFSETTO:+0100
RDATE:20211031T030000
END:STANDARD
BEGIN:DAYLIGHT
TZNAME:CEST
DTSTART:20200329T020000
TZOFFSETFROM:+0100
TZOFFSETTO:+0200
RDATE:20210328T020000
RDATE:20220327T020000
END:DAYLIGHT
END:VTIMEZONE
BEGIN:VEVENT
UID:62616235-3032-4036-a663-306433653037
DTSTAMP:20260423T085624Z
CATEGORIES:Folk & More
CLASS:PUBLIC
DESCRIPTION;ALTREP="CID:<FFFF__=0ABBE548DFE235B58f9e8a93d@coffeebean.com>":
 Es ist jedes Mal eine Reise\, die beginnt\, wenn man der Musik von «Tidemo
 re» lauscht. Und man weiss nicht genau\, wohin sie einen führen wird...\nD
 ie perfekt aufeinander abgestimmten Brüder Matthias und Andreas Pietsch br
 ingen mit ihrem eigenwilligen akustischen Sound ihre zauberhaften Songs zu
 m Strahlen und überzeugen mit ihrer Fähigkeit\, eine ergreifende Atmosphär
 e zu erzeugen und ihr Publikum tief im Inneren zu berühren.\nSie wissen ei
 nfach\, wie man eingängige Songs schreibt. Es sind diese grandiosen Melodi
 en\, deren Schönheit sofort verfängt. Mal ist es die Stimme\, mal eine Git
 arrenlinie. Kaum ein Song\, in dem man lange auf dieses strahlende Glanzli
 cht warten muss. Sie bedienen die grossen Gefühle und sind dabei doch niem
 als trivial.\nAktuell sind die Brüder mit ihrem dritten Album 'apart' auf 
 Tour.\nMatthias Pietsch (g\, voc)\, Andreas Pietsch (g\, voc)\nwww.tidemor
 e.de
DTSTART:20210328T173000Z
DTEND:20210328T173000Z
GEO:00;0
LOCATION:
ORGANIZER:
SEQUENCE:1
SUMMARY:Tidemore – «Apart»
TRANSP:OPAQUE
URL:https://www.esse.bar/index.php/veranstaltungen/vergangene-veranstaltung
 en/1186-tidemore-apart/2021-03-28-19-30
END:VEVENT
END:VCALENDAR
