BEGIN:VCALENDAR
VERSION:2.0
PRODID:-//ESSE Musicbar Winterthur//NONSGML kigkonsult.se iCalcreator 2.41.92//
CALSCALE:GREGORIAN
METHOD:PUBLISH
UID:35653565-3939-4561-b637-393238393639
X-WR-CALNAME:iCagenda
X-WR-CALDESC:Event Management Extension for Joomla!
X-WR-RELCALID:3E26604A-50F4-4449-8B3E-E4F4932D05B5
X-WR-TIMEZONE:Europe/Zurich
BEGIN:VTIMEZONE
TZID:Europe/Zurich
TZUNTIL:20221030T010000Z
BEGIN:STANDARD
TZNAME:CET
DTSTART:20201025T030000
TZOFFSETFROM:+0200
TZOFFSETTO:+0100
RDATE:20211031T030000
END:STANDARD
BEGIN:DAYLIGHT
TZNAME:CEST
DTSTART:20200329T020000
TZOFFSETFROM:+0100
TZOFFSETTO:+0200
RDATE:20210328T020000
RDATE:20220327T020000
END:DAYLIGHT
END:VTIMEZONE
BEGIN:VEVENT
UID:32323637-3061-4966-b831-643561383930
DTSTAMP:20260423T085301Z
CATEGORIES:Folk & More
CLASS:PUBLIC
DESCRIPTION;ALTREP="CID:<FFFF__=0ABBE548DFE235B58f9e8a93d@coffeebean.com>":
 Das Zwei-Mann-Orchester «Johnny &amp\; The Rocketboy» fliegt durch Raum un
 d Zeit. Mit bekannten und unbekannten Liedern zaubern und besingen sie Son
 ne\, Mond und Sterne und ihre Musik mäandert zwischen Gypsy-Swing\, Chanso
 n und World-Music.\nAls Kern der Gruppen «Extrafish» und «Vendredi Soir Sw
 ing» sowie weiteren gemeinsamen Projekten verbindet die beiden Saitenkünst
 ler eine langjährige und intensive Zusammenarbeit und Freundschaft. Das Re
 pertoire beinhaltet – nebst Eigenkompositionen – aucheine Hand voll Liebli
 ngslieder\, reduziert auf ihre Essenz und vom Duo neu bekleidet.\nMit im R
 eisegepäck bindet sich natürlich auch das neue Album «Everything».\nValent
 in Baumgartner (g\, voc\, oud)\, Jonas Künzli (db\, voc)\nhttps://johnnyan
 dtherocketboy.ch/index.html
DTSTART:20201220T183000Z
DTEND:20201220T183000Z
GEO:00;0
LOCATION:
ORGANIZER:
SEQUENCE:1
SUMMARY:Johnny & The Rocketboy – «Everything»
TRANSP:OPAQUE
URL:https://www.esse.bar/index.php/veranstaltungen/vergangene-veranstaltung
 en/1239-johnny-the-rocketboy-everything/2020-12-20-19-30
END:VEVENT
END:VCALENDAR
