BEGIN:VCALENDAR
VERSION:2.0
PRODID:-//ESSE Musicbar Winterthur//NONSGML kigkonsult.se iCalcreator 2.41.92//
CALSCALE:GREGORIAN
METHOD:PUBLISH
UID:30373163-3937-4664-a261-376266326463
X-WR-CALNAME:iCagenda
X-WR-CALDESC:Event Management Extension for Joomla!
X-WR-RELCALID:3E26604A-50F4-4449-8B3E-E4F4932D05B5
X-WR-TIMEZONE:Europe/Zurich
BEGIN:VTIMEZONE
TZID:Europe/Zurich
TZUNTIL:20221030T010000Z
BEGIN:STANDARD
TZNAME:CET
DTSTART:20201025T030000
TZOFFSETFROM:+0200
TZOFFSETTO:+0100
RDATE:20211031T030000
END:STANDARD
BEGIN:DAYLIGHT
TZNAME:CEST
DTSTART:20200329T020000
TZOFFSETFROM:+0100
TZOFFSETTO:+0200
RDATE:20210328T020000
RDATE:20220327T020000
END:DAYLIGHT
END:VTIMEZONE
BEGIN:VEVENT
UID:30623365-3330-4635-a539-373939336135
DTSTAMP:20260423T084603Z
CATEGORIES:Jazz
CLASS:PUBLIC
DESCRIPTION;ALTREP="CID:<FFFF__=0ABBE548DFE235B58f9e8a93d@coffeebean.com>":
 Dieses Trio-Projekt\, in einem Kammermusik-Ensemble mit Max Petersen am Kl
 avier und Phelan Burgoyne am Schlagzeug\, bewegt sich zwischen Einflüssen 
 aus verschiedenen Kulturen und ihrer Wahrnehmung der Klänge der Umwelt.\nD
 ie Kompositionen aus dem Kern und Wesen von Isabel Richiusa segeln aus dem
  Hafen des Jazz hinaus und überwinden die Grenzen zwischen Jazz\, Folk und
  Kunstmusik. Die Musik wird zu einer Ästhetik der Klangbilder geformt\, di
 e weder ihre Verletzlichkeit\, Zerbrechlichkeit noch ihre emotionale Tiefe
  und Klarheit verliert.\nRuhe und Intensität kombiniert mit Emotion\, Inte
 llekt und poetischem Sinn werden in einer modernen Spielweise vereint\, in
  der jedem Wort und jeder Note eine tiefere Bedeutung zugeschrieben wird. 
 Eine schwebende\, intime und doch ausdrucksstarke Musik\, die in der Kraft
  der Rhythmen verwurzelt ist und diese in virtuose Formen umsetzt.\nIsabel
  Richiusa (voc\, comp)\, Max Petersen (p)\, Phelan Burgoyne (dr)\nhttps://
 isabelrichiusa.com/homehttps://www.max-petersen.com
DTSTART:20210205T191500Z
DTEND:20210205T191500Z
GEO:00;0
LOCATION:
ORGANIZER:
SEQUENCE:1
SUMMARY:Isabel Richiusa Trio
TRANSP:OPAQUE
URL:https://www.esse.bar/index.php/veranstaltungen/vergangene-veranstaltung
 en/1342-isabel-richiusa-trio/2021-02-05-20-15
END:VEVENT
END:VCALENDAR
