BEGIN:VCALENDAR
VERSION:2.0
PRODID:-//ESSE Musicbar Winterthur//NONSGML kigkonsult.se iCalcreator 2.41.92//
CALSCALE:GREGORIAN
METHOD:PUBLISH
UID:62353766-3836-4330-a237-616337383165
X-WR-CALNAME:iCagenda
X-WR-CALDESC:Event Management Extension for Joomla!
X-WR-RELCALID:3E26604A-50F4-4449-8B3E-E4F4932D05B5
X-WR-TIMEZONE:Europe/Zurich
BEGIN:VTIMEZONE
TZID:Europe/Zurich
TZUNTIL:20230326T010000Z
BEGIN:STANDARD
TZNAME:CET
DTSTART:20201025T030000
TZOFFSETFROM:+0200
TZOFFSETTO:+0100
RDATE:20211031T030000
RDATE:20221030T030000
END:STANDARD
BEGIN:DAYLIGHT
TZNAME:CEST
DTSTART:20210328T020000
TZOFFSETFROM:+0100
TZOFFSETTO:+0200
RDATE:20220327T020000
END:DAYLIGHT
END:VTIMEZONE
BEGIN:VEVENT
UID:61313432-3963-4834-b235-373932333437
DTSTAMP:20260423T085707Z
CATEGORIES:Folk & More
CLASS:PUBLIC
DESCRIPTION;ALTREP="CID:<FFFF__=0ABBE548DFE235B58f9e8a93d@coffeebean.com>":
 Im Chansonrausch\nElegant\, verführerisch\, mit einem Hauch von Glamour un
 d Verruchtheit\, stets verbunden mit einem feinen Humor\, der diese andere
 \, erträgliche Sicht auf die Welt vermittelt: Voll schalkhafter Melancholi
 e beschwört Lisa Berg mit ihrer berührenden\, strahlenden Chansonstimme Al
 ltagstragödien\, Frühlingsidyllen und Rauschzustände.\nDie heimliche König
 in des deutschen Chansons steht in einer langen Tradition grosser Namen: E
 dith Piaf\, Paul Burkhard oder Georg Kreisler\, alle haben bei ihr ihre un
 verkennbaren Spuren hinterlassen\, insbesondere auch ihre Mentorin Topsy K
 üppers.\nAm Klavier begleitet sie ihr kongenialer Songschreiber-Partner Da
 vid Ruosch\, einer der gefragtesten Jazz- und Bluespianisten der Schweiz u
 nd Dozent an der Zürcher Hochschule der Künste. Erweitert wird das einfall
 sreiche Duo durch den Geiger Christian Strässle\, der in seinem Spiel virt
 uose Violintechnik mit Einfallsreichtum und einfühlsamer Begleitung verbin
 det.\nLisa Berg (voc)\, David Ruosch (p)\, Christian Strässle (vl)\nhttps:
 //lisaberg.ch
DTSTART:20210606T173000Z
DTEND:20210606T173000Z
GEO:00;0
LOCATION:
ORGANIZER:
SEQUENCE:1
SUMMARY:Lisa Berg - Im Chansonrausch #2
TRANSP:OPAQUE
URL:https://www.esse.bar/index.php/veranstaltungen/vergangene-veranstaltung
 en/1351-lisa-berg/2021-06-06-19-30
END:VEVENT
END:VCALENDAR
