BEGIN:VCALENDAR
VERSION:2.0
PRODID:-//ESSE Musicbar Winterthur//NONSGML kigkonsult.se iCalcreator 2.41.92//
CALSCALE:GREGORIAN
METHOD:PUBLISH
UID:65343534-6632-4333-a339-653632333534
X-WR-CALNAME:iCagenda
X-WR-CALDESC:Event Management Extension for Joomla!
X-WR-RELCALID:3E26604A-50F4-4449-8B3E-E4F4932D05B5
X-WR-TIMEZONE:Europe/Zurich
BEGIN:VTIMEZONE
TZID:Europe/Zurich
TZUNTIL:20231029T010000Z
BEGIN:STANDARD
TZNAME:CET
DTSTART:20201025T030000
TZOFFSETFROM:+0200
TZOFFSETTO:+0100
RDATE:20211031T030000
RDATE:20221030T030000
END:STANDARD
BEGIN:DAYLIGHT
TZNAME:CEST
DTSTART:20210328T020000
TZOFFSETFROM:+0100
TZOFFSETTO:+0200
RDATE:20220327T020000
RDATE:20230326T020000
END:DAYLIGHT
END:VTIMEZONE
BEGIN:VEVENT
UID:33346466-6337-4961-b234-393364396666
DTSTAMP:20260423T102228Z
CATEGORIES:Jazz
CLASS:PUBLIC
DESCRIPTION;ALTREP="CID:<FFFF__=0ABBE548DFE235B58f9e8a93d@coffeebean.com>":
 More musical adventures by SchnozJennyCaflisch featuring Gabriela Krapf\nD
 ie Musik von Björk ist vielschichtig\, intensiv und bisweilen verstörend n
 eben der Norm. Mit ihrer einzigartigen Stimme und ihrem furchtlosen Experi
 mentiergeist gehört sie zweifellos zu den bedeutendsten Sängerinnen der 19
 90er Jahre. Ihr Einfluss auf das moderne Musikschaffen ist auch heute noch
  riesig.\nAls das Trio «SchnozJennyCaflisch» für einen gemeinsamen Auftrit
 t mit Gabriela Krapf einen Song von Björk umsetzte\, was sofort klar\, das
 s dies erst der Anfang war. Die Auseinandersetzung mit Björk und ihrer Mus
 ik bietet einen unglaublichen Reichtum an Inspiration. Ideal also für vier
  neugierige Freidenker um sich daran zu laben.\n«Stripped and reloaded» wi
 rd passend als musikalisches Abenteuer angekündigt. Und zwar mit BigBeat\,
  Electronics\, FreeSpace und viel Isländischem Moos… Wie das alles klingt\
 , das wissen wir jetzt seit 2019. Doch die Kollaboration hält an und versp
 richt wieder einen spannenden Abend – mit Björk als Ausgangspunkt\, Jazz a
 ls Vehikel\, drei schlechtrasierte Instrumentalisten am Ruder und einer fa
 szinierenden Sängerin am Steuer…\nGabriela Krapf (voc\, keyb)\, Andi Schno
 z (g\, efx)\, Marc Jenny (db\, efx)\, Rolf Caflisch (dr)\nwww.gabrielakrap
 f.ch www.andischnoz.ch www.marcjenny.com
DTSTART:20210924T181500Z
DTEND:20210924T181500Z
GEO:00;0
LOCATION:
ORGANIZER:
SEQUENCE:1
SUMMARY:The Music Of Björk – stripped and reloaded
TRANSP:OPAQUE
URL:https://www.esse.bar/index.php/veranstaltungen/vergangene-veranstaltung
 en/1352-the-music-of-bjoerk-2/2021-09-24-20-15
END:VEVENT
END:VCALENDAR
