BEGIN:VCALENDAR
VERSION:2.0
PRODID:-//ESSE Musicbar Winterthur//NONSGML kigkonsult.se iCalcreator 2.41.92//
CALSCALE:GREGORIAN
METHOD:PUBLISH
UID:64333062-3061-4264-b466-386162333563
X-WR-CALNAME:iCagenda
X-WR-CALDESC:Event Management Extension for Joomla!
X-WR-RELCALID:3E26604A-50F4-4449-8B3E-E4F4932D05B5
X-WR-TIMEZONE:Europe/Zurich
BEGIN:VTIMEZONE
TZID:Europe/Zurich
TZUNTIL:20230326T010000Z
BEGIN:STANDARD
TZNAME:CET
DTSTART:20201025T030000
TZOFFSETFROM:+0200
TZOFFSETTO:+0100
RDATE:20211031T030000
RDATE:20221030T030000
END:STANDARD
BEGIN:DAYLIGHT
TZNAME:CEST
DTSTART:20210328T020000
TZOFFSETFROM:+0100
TZOFFSETTO:+0200
RDATE:20220327T020000
END:DAYLIGHT
END:VTIMEZONE
BEGIN:VEVENT
UID:62633832-3563-4933-b538-643666653433
DTSTAMP:20260421T130059Z
CATEGORIES:Jazz
CLASS:PUBLIC
DESCRIPTION;ALTREP="CID:<FFFF__=0ABBE548DFE235B58f9e8a93d@coffeebean.com>":
 «Macht einfach glücklich»\, beschrieb die NZZ einmal ihren Gemütszustand n
 ach dem Hören von Henry. Mit ihrem mittlerweile dritten Album\, treffender
 weise «Henry III» betitelt\, ist das Quartett um Nicole Johänntgen im Rahm
 en der Release-Tour in der ESSE zu Gast. Auch auf dem neuen Album ist die 
 Inspiration des New-Orleans-Jazz präsent\, die Musik bleibt funky und ist 
 erfrischend\, einfach und ehrlich gespielt\, groovt und rumpelt.\nDie Saxo
 phonistin Nicole Johänntgen stammt aus dem Saarland und lebt seit 13 Jahre
 n in Zürich\, wo sie das Atelier-Stipendium der Stadt gewann und 2016 ein 
 halbes Jahr in New York verbrachte. Dort startete sie das «Henry»-Projekt 
 als Hommage an ihren Vater Heinrich\, der sie zu ihren Schulzeiten frühmor
 gens mit der Posaune zu wecken pflegte.\nNun geht Henry also in die nächst
 e Runde. Feierlich und fröhlich im gellenden Bläser-Sound\, klingt das aku
 stische Quartett wie eine mitreissende Marching Band. Die Grooves werden d
 abei befeuert durch rasselnde Second Lines und federnden Funk. Die schmale
  Besetzung (Saxofon\, Posaune\, Sousaphon und Schlagzeug) aber hält den So
 und transparent und die Musiker flexibel. \nDoch wer genau hinhört\, entde
 ckt auch die tiefsinnige\, herzzerreissende Seite von Henry. Und dann geht
  es in der Achterbahnfahrt weiter – stets im Taumel zwischen Melancholie u
 nd Lebensfreude.\nNicole Johänntgen (s)\, Lukas Wyss (tb)\, Steven Glenn (
 ssph)\, Clemens Kuratle (dr) \nhttps://www.nicolejohaenntgen.com
DTSTART:20210519T181500Z
DTEND:20210519T181500Z
GEO:00;0
LOCATION:
ORGANIZER:
SEQUENCE:1
SUMMARY:Nicole Johänntgen «Henry» – Album-Release-Tour Henry III
TRANSP:OPAQUE
URL:https://www.esse.bar/index.php/veranstaltungen/vergangene-veranstaltung
 en/1354-nicole-johaenntgen-henry-album-release-tour-henry-iii/2021-05-19-2
 0-15
END:VEVENT
END:VCALENDAR
