BEGIN:VCALENDAR
VERSION:2.0
PRODID:-//ESSE Musicbar Winterthur//NONSGML kigkonsult.se iCalcreator 2.41.92//
CALSCALE:GREGORIAN
METHOD:PUBLISH
UID:36336630-6139-4330-b962-313133353530
X-WR-CALNAME:iCagenda
X-WR-CALDESC:Event Management Extension for Joomla!
X-WR-RELCALID:3E26604A-50F4-4449-8B3E-E4F4932D05B5
X-WR-TIMEZONE:Europe/Zurich
BEGIN:VTIMEZONE
TZID:Europe/Zurich
TZUNTIL:20230326T010000Z
BEGIN:STANDARD
TZNAME:CET
DTSTART:20201025T030000
TZOFFSETFROM:+0200
TZOFFSETTO:+0100
RDATE:20211031T030000
RDATE:20221030T030000
END:STANDARD
BEGIN:DAYLIGHT
TZNAME:CEST
DTSTART:20210328T020000
TZOFFSETFROM:+0100
TZOFFSETTO:+0200
RDATE:20220327T020000
END:DAYLIGHT
END:VTIMEZONE
BEGIN:VEVENT
UID:32633731-6463-4538-a431-373564633733
DTSTAMP:20260423T085016Z
CATEGORIES:Jazz
CLASS:PUBLIC
DESCRIPTION;ALTREP="CID:<FFFF__=0ABBE548DFE235B58f9e8a93d@coffeebean.com>":
 «Jazz ist die Freiheit\, viele Formen zu haben». Dieses Zitat von DUKE ELL
 INGTON ist sprichwörtlich Programm von «Bassic Vibes». Die Kompositionen v
 on Erich Fischer schöpfen aus der stilistisch vielfältigen und abwechslung
 sreichen Welt des Jazz. Die gezupften oder mit dem Bogen gestrichenen Sait
 en des Kontrabasses von Thomas Lähns und die geschlagenen oder gestrichene
 n Metallplatten des Vibraphons von Erich Fischer ergeben reizvolle Klangfa
 rben.Die Trommeln und Becken unseres spanischen Meister-Perkussionisten be
 reichern die Klangwelt von «Bassic Vibes» entscheidend. Yuvisney Aguilar b
 egleitet sehr gefühlvoll\, spielt aber auch begeisternde Soli. Das alles m
 acht dieses Trio zu einem exklusiven Hörerlebnis. Mit im Gepäck haben die 
 drei Musiker ihre taufbereite CD «Archaic Vowels».\nErich Fischer (vib\, v
 oc\, comp)\, Thomas Lähns (db)\, Yuvisney Aguilar (perc)\, Tony Renold (dr
 )\nhttps://www.erichfischer-musik.ch/bassic-vibes-feat-yuvi\nPressestimmen
 :«Bemerkenswert ist die Soundvielfalt\, welche die Musiker anbieten.» - (A
 ngela Ballhorn\, Jazz‘n‘more)«Heraus kommt luftiger Kammerjazz\, mitreisse
 nde Spielfreude und kurzweilige Arrangements.» - (Hans-Jürgen Schaal\, Jaz
 zthing)\nVideos:\n\nShort Cuts — https://youtu.be/C6f3xpLpDoA\nJoey's Mamb
 o — https://youtu.be/CkswB3rKB04\nFunky Flutes No. 2 — https://youtu.be/Kk
 Xndokm_sA\nAfrican Vibes No. 4 — https://youtu.be/vrmoR-iqmBE
DTSTART:20210520T181500Z
DTEND:20210520T181500Z
GEO:00;0
LOCATION:
ORGANIZER:
SEQUENCE:1
SUMMARY:Bassic Vibes feat. Yuvisney Aguilar und Tony Renold – CD Taufe «Arc
 haic Vowels»
TRANSP:OPAQUE
URL:https://www.esse.bar/index.php/veranstaltungen/vergangene-veranstaltung
 en/1355-nicole-johaenntgen-henry-album-release-tour-henry-iii-2/2021-05-20
 -20-15
END:VEVENT
END:VCALENDAR
