BEGIN:VCALENDAR
VERSION:2.0
PRODID:-//ESSE Musicbar Winterthur//NONSGML kigkonsult.se iCalcreator 2.41.92//
CALSCALE:GREGORIAN
METHOD:PUBLISH
UID:33636431-3466-4063-b635-373338666336
X-WR-CALNAME:iCagenda
X-WR-CALDESC:Event Management Extension for Joomla!
X-WR-RELCALID:3E26604A-50F4-4449-8B3E-E4F4932D05B5
X-WR-TIMEZONE:Europe/Zurich
BEGIN:VTIMEZONE
TZID:Europe/Zurich
TZUNTIL:20230326T010000Z
BEGIN:STANDARD
TZNAME:CET
DTSTART:20201025T030000
TZOFFSETFROM:+0200
TZOFFSETTO:+0100
RDATE:20211031T030000
RDATE:20221030T030000
END:STANDARD
BEGIN:DAYLIGHT
TZNAME:CEST
DTSTART:20210328T020000
TZOFFSETFROM:+0100
TZOFFSETTO:+0200
RDATE:20220327T020000
END:DAYLIGHT
END:VTIMEZONE
BEGIN:VEVENT
UID:63626638-6334-4761-b463-633931383666
DTSTAMP:20260423T102008Z
CATEGORIES:Jazz
CLASS:PUBLIC
DESCRIPTION;ALTREP="CID:<FFFF__=0ABBE548DFE235B58f9e8a93d@coffeebean.com>":
 Im Februar vor einem Jahr war die aus Stralsund stammende und in Zürich le
 bende Gitarristin und Komponistin Mareille Merck mit ihrem Trio «LARUS» be
 i uns zu Gast - eines ihrer letzten Konzerte\, bevor Corona alles ausgebre
 mst hat. Trotz der schwierigen Umstände ist seither einiges passiert. Mare
 ille durfte z.B. mit John McLaughlin auf der Bühne stehen\, ihr Trio wurde
  für die Förder-Reihe Suisse Diagonales Jazz ausgewählt und die Band hat i
 hr Debüt-Album «Fadenschlag» aufgenommen\, welches in Zusammenarbeit mit R
 adio SRF 2 Kultur am 05. März 21 bei Mons Records veröffentlicht werden wi
 rd.\nMit Suisse Diagonales hätten die drei mit Konzerten im Moods\, Bejazz
  und anderen Orten die perfekte Release-Tour gehabt\, aus den bekannten Gr
 ünden verschiebt sich das ganze nun auf 2022. Die eigentliche CD-Release-T
 our findet dennoch im laufenden Jahr statt. So freuen wir uns\, dass «LARU
 S» erneut in der ESSE gastiert.\nDrei junge Musiker\, die sich gemeinsam a
 uf die Reise machen. Im Gepäck? Eine gehörige Portion Mut\, Abenteuerlust 
 und Risikofreude. Die Weggefährten? Ereignisreiche Kompositionen und aussc
 hweifende Improvisationen. Den Blick fürs Wesentliche verlieren die drei d
 abei nie. Komplexe harmonische und rhythmische Muster werden verbunden dur
 ch lyrische Melodien und eingängige Motive\, Zusammenspiel und Dynamik ers
 chaffen Atmosphäre und Raum. Zuweilen fühlt man sich umarmt von warmen Sou
 nds\, fast schwerelos\, dann findet man sich wieder inmitten eines Wirbels
 turmes. Oben und unten sind vertauscht\, der Rausch der Geschwindigkeit dr
 öhnt in den Ohren. Taumelt man in die Stille zurück\, zeichnen flüsternde 
 Zwiegespräche der Instrumente Bilder einer verzauberten Welt.So wie „Larus
 “\, die Silbermöwe\, die verschiedensten Landschaften überfliegt\, so trag
 en uns auch Mareille Merck\, Florian Bolliger und Janic Haller mit ihrer M
 usik über belebte Strände\, weite Felder\, felsige Küsten und die eine ode
 r andere einsame Insel.\nIm Fokus steht dabei der kreative Umgang mit den 
 Rollen der Instrumente - es gibt gemeinsame Melodieverläufe\, Kontrapunkte
 \, kollektive Improvisationen - kurzum ein Loslösen von vorgefestigten Rol
 len. Wir hören Einflüsse aus Rock\, Pop\, Folk und Fingerstyle-Guitar. Die
  Musiker suchen Herausforderungen\, verlassen die festgetrampelten Pfade u
 nd wagen sich ausserhalb der Komfortzone an aufwendige Arrangements oder O
 dd-Meter. Dabei entsteht jedoch keineswegs 'Musik nur für Musiker'. Vielme
 hr finden sich eingängige Melodien\, geradezu 'Ohrwürmer'\, die jegliche m
 usikalische Strukturen feinsinnig zusammenfügen - umarmt vom Ausdruck von 
 Emotion\, Erzählen von Geschichten und Malen von Landschaften. Hier haben 
 sich drei Charakterköpfe zusammengefunden\, denen es nicht reicht\, das be
 reits Dagewesene zu interpretieren\, sondern die mit Eigenständigkeit\,kre
 ativen Ideen und frischen Nuancen die Jazzwelt durchrütteln.\nMareille Mer
 ck (g\, comp)\, Florian Bolliger (db)\, Janic Haller (dr)\nwww.mareillemer
 ck.com/larus
DTSTART:20210916T181500Z
DTEND:20210916T181500Z
GEO:00;0
LOCATION:
ORGANIZER:
SEQUENCE:1
SUMMARY:Mareille Merck LARUS – «Fadenschlag»
TRANSP:OPAQUE
URL:https://www.esse.bar/index.php/veranstaltungen/vergangene-veranstaltung
 en/1358-mareille-merck-larus-fadenschlag/2021-09-16-20-15
END:VEVENT
END:VCALENDAR
