BEGIN:VCALENDAR
VERSION:2.0
PRODID:-//ESSE Musicbar Winterthur//NONSGML kigkonsult.se iCalcreator 2.41.92//
CALSCALE:GREGORIAN
METHOD:PUBLISH
UID:35396234-6263-4639-b264-363231383161
X-WR-CALNAME:iCagenda
X-WR-CALDESC:Event Management Extension for Joomla!
X-WR-RELCALID:3E26604A-50F4-4449-8B3E-E4F4932D05B5
X-WR-TIMEZONE:Europe/Zurich
BEGIN:VTIMEZONE
TZID:Europe/Zurich
TZUNTIL:20230326T010000Z
BEGIN:STANDARD
TZNAME:CET
DTSTART:20201025T030000
TZOFFSETFROM:+0200
TZOFFSETTO:+0100
RDATE:20211031T030000
RDATE:20221030T030000
END:STANDARD
BEGIN:DAYLIGHT
TZNAME:CEST
DTSTART:20210328T020000
TZOFFSETFROM:+0100
TZOFFSETTO:+0200
RDATE:20220327T020000
END:DAYLIGHT
END:VTIMEZONE
BEGIN:VEVENT
UID:66313035-3432-4437-b565-633962306233
DTSTAMP:20260423T090308Z
CATEGORIES:Jazz
CLASS:PUBLIC
DESCRIPTION;ALTREP="CID:<FFFF__=0ABBE548DFE235B58f9e8a93d@coffeebean.com>":
 Erste Lockerungen und Live-Musik ist trotz Einschränkungen wie Sitz- und S
 chutzmaskentrage-Pflicht wieder möglich? Die Nuzzi-Brothers und Waltee sin
 d zur Stelle. An ihrem Schutz- äh Soundkonzept hat sich zum Glück nicht vi
 el geändert. Nach wie vor bieten «Orgzeptor» spritzigen\, von Jazz und Blu
 es durchtränken Old-School-Funk\, in einem Mix von Eigenkompositionen und 
 pfiffig interpretierten Cover Songs.\nMit Freude präsentiert die Band nebe
 n ihrem aktuellen Album mit dem Titel «1972»\, welches sowohl als CD als a
 uch als Vinyl-Platte erhältlich ist. Die Soundwellen dieser Produktion sin
 d sogar bis zu einer Radiostation in Detroit geschwappt. Wenn das kein gut
 es Omen ist…\nNeben dem besagten Longplayer stellen die drei Musiker auch 
 ihre brandneue EP «Forever» vor. Dazu gibt es auch einen tollen Video-Clip
 .\nRoberto Nuzzi (org)\, Loris Nuzzi (g)\, Walter Vitale (dr)\nClips:Orgze
 ptor Forever - YouTubeFind Your Beat - YouTube\nwww.orgzeptor.ch\n 
DTSTART:20210501T181500Z
DTEND:20210501T181500Z
GEO:00;0
LOCATION:
ORGANIZER:
SEQUENCE:1
SUMMARY:Orgzeptor – Spritziger\, jazziger Blues und Old-School-Funk
TRANSP:OPAQUE
URL:https://www.esse.bar/index.php/veranstaltungen/vergangene-veranstaltung
 en/1360-orgzeptor-spritziger-jazziger-blues-und-old-school-funk/2021-05-01
 -20-15
END:VEVENT
END:VCALENDAR
