BEGIN:VCALENDAR
VERSION:2.0
PRODID:-//ESSE Musicbar Winterthur//NONSGML kigkonsult.se iCalcreator 2.41.92//
CALSCALE:GREGORIAN
METHOD:PUBLISH
UID:64653639-3031-4737-a235-623637393539
X-WR-CALNAME:iCagenda
X-WR-CALDESC:Event Management Extension for Joomla!
X-WR-RELCALID:3E26604A-50F4-4449-8B3E-E4F4932D05B5
X-WR-TIMEZONE:Europe/Zurich
BEGIN:VTIMEZONE
TZID:Europe/Zurich
TZUNTIL:20230326T010000Z
BEGIN:STANDARD
TZNAME:CET
DTSTART:20201025T030000
TZOFFSETFROM:+0200
TZOFFSETTO:+0100
RDATE:20211031T030000
RDATE:20221030T030000
END:STANDARD
BEGIN:DAYLIGHT
TZNAME:CEST
DTSTART:20210328T020000
TZOFFSETFROM:+0100
TZOFFSETTO:+0200
RDATE:20220327T020000
END:DAYLIGHT
END:VTIMEZONE
BEGIN:VEVENT
UID:37653331-3263-4666-b334-633434386431
DTSTAMP:20260423T101955Z
CATEGORIES:Folk & More
CLASS:PUBLIC
DESCRIPTION;ALTREP="CID:<FFFF__=0ABBE548DFE235B58f9e8a93d@coffeebean.com>":
 «Deseo de Tango» – Sehnsucht nach Tango – ist\, was das viersprachige Quin
 tett zusammengeführt hat und was zu einer gemeinsamen Passion geworden ist
 . Das Ensemble besteht seit 2006 aus fünf professionellen Musikerinnen und
  Musikern\, die aus verschiedenen Regionen der Schweiz und Europa stammen.
  Vom Original-Quintett Piazzollas inspiriert\, lassen die Musiker durch de
 n schwungvollen Klang des Akkordeons\, den kraftvollen Rhythmus des Kontra
 basses\, die eindringlichen Harmonien des Klaviers\, die Melancholie der G
 itarre und die Sinnlichkeit der Violine das Temperament des Tangos auflebe
 n. Bis heute hat «Deseo de Tango» über 100 Konzerte in der Schweiz und im 
 Ausland gespielt.\nDas neue Projekt DIStANZ ist eine Musikaufführung mit d
 em Quintett «Deseo de Tango» und mit Uraufführungen von Werner Bärtschi un
 d Sophie Lüssi sowie mit Werken von Piazzolla\, Glaser und Mederos. «Deseo
  de Tango» nehmen eine intime Perspektive von Migrationsthemen und damit e
 inhergehenden DIStANZ ein und zwar mit Hilfe von musikalischen Stilmitteln
 \, die sich einerseits voneinander unterscheiden\, sich aber auch verschme
 lzen lassen. Sie bedienen sich der musikalischen Stilrichtungen des Tango 
 Nuevo und der Neuen Musik. Mit Werner Bärtschi und Sophie Lüssi haben sie 
 zwei zeitgenössische KomponistInnen gefunden\, die sich dieser Fusion zwei
 erStilrichtungen annehmen und musikalische DIStANZ ausloten.\nVincent Mill
 ioud (vl)\, Marija Wüthrich-Savicevic (p)\, Florine Juvet (acc)\, Virginia
  Arancio (g)\, Sabrina Merz (db)\nhttp://www.deseodetango.net/site/de/pres
 entation/
DTSTART:20210627T173000Z
DTEND:20210627T173000Z
GEO:00;0
LOCATION:
ORGANIZER:
SEQUENCE:1
SUMMARY:Deseo de Tango – Uraufführung DIStANZ
TRANSP:OPAQUE
URL:https://www.esse.bar/index.php/veranstaltungen/vergangene-veranstaltung
 en/1362-deseo-de-tango-urauffuehrung-distanz/2021-06-27-19-30
END:VEVENT
END:VCALENDAR
