BEGIN:VCALENDAR
VERSION:2.0
PRODID:-//ESSE Musicbar Winterthur//NONSGML kigkonsult.se iCalcreator 2.41.92//
CALSCALE:GREGORIAN
METHOD:PUBLISH
UID:32623037-3861-4664-b937-383334653662
X-WR-CALNAME:iCagenda
X-WR-CALDESC:Event Management Extension for Joomla!
X-WR-RELCALID:3E26604A-50F4-4449-8B3E-E4F4932D05B5
X-WR-TIMEZONE:Europe/Zurich
BEGIN:VTIMEZONE
TZID:Europe/Zurich
TZUNTIL:20230326T010000Z
BEGIN:STANDARD
TZNAME:CET
DTSTART:20201025T030000
TZOFFSETFROM:+0200
TZOFFSETTO:+0100
RDATE:20211031T030000
RDATE:20221030T030000
END:STANDARD
BEGIN:DAYLIGHT
TZNAME:CEST
DTSTART:20210328T020000
TZOFFSETFROM:+0100
TZOFFSETTO:+0200
RDATE:20220327T020000
END:DAYLIGHT
END:VTIMEZONE
BEGIN:VEVENT
UID:36366465-3964-4265-a638-323234613937
DTSTAMP:20260423T085833Z
CATEGORIES:Folk & More
CLASS:PUBLIC
DESCRIPTION;ALTREP="CID:<FFFF__=0ABBE548DFE235B58f9e8a93d@coffeebean.com>":
 «Saesch» war «Attila Vural» bisher nur aus der Hitparade bekannt. Wiederum
  kannte «Saesch» Attila aus den internationalen Gitarren-Fachmagazinen. Da
 ss die beiden keine 30 Kilometer voneinander leben\, war ihnen bis im Sept
 ember letzten Jahres nicht bewusst.\nBereits bei ihrem ersten Treffen besc
 hlossen sie\, ein gemeinsames Musikprogramm zusammenzustellen\, welches si
 ch aus Blues\, Traditional bis Folk bunt gemischt mit Covers und eigenen K
 ompositionen\, gestaltet. Beide gelten als Gitarrenfreaks und es wird dahe
 r spannend sein\, welches Arsenal an Gitarren mit auf die Bühne kommt.\nSa
 esch (g\, voc)\, Attila Vural (g\, mand\, voc)\nwww.saesch.chwww.lavural.c
 h\n 
DTSTART:20210530T173000Z
DTEND:20210530T173000Z
GEO:00;0
LOCATION:
ORGANIZER:
SEQUENCE:1
SUMMARY:Saesch & Attila Vural – «Blues & More»
TRANSP:OPAQUE
URL:https://www.esse.bar/index.php/veranstaltungen/vergangene-veranstaltung
 en/1363-saesch-attila-vural-2/2021-05-30-19-30
END:VEVENT
END:VCALENDAR
