BEGIN:VCALENDAR
VERSION:2.0
PRODID:-//ESSE Musicbar Winterthur//NONSGML kigkonsult.se iCalcreator 2.41.92//
CALSCALE:GREGORIAN
METHOD:PUBLISH
UID:30633233-3536-4639-a338-643734623132
X-WR-CALNAME:iCagenda
X-WR-CALDESC:Event Management Extension for Joomla!
X-WR-RELCALID:3E26604A-50F4-4449-8B3E-E4F4932D05B5
X-WR-TIMEZONE:Europe/Zurich
BEGIN:VTIMEZONE
TZID:Europe/Zurich
TZUNTIL:20230326T010000Z
BEGIN:STANDARD
TZNAME:CET
DTSTART:20201025T030000
TZOFFSETFROM:+0200
TZOFFSETTO:+0100
RDATE:20211031T030000
RDATE:20221030T030000
END:STANDARD
BEGIN:DAYLIGHT
TZNAME:CEST
DTSTART:20210328T020000
TZOFFSETFROM:+0100
TZOFFSETTO:+0200
RDATE:20220327T020000
END:DAYLIGHT
END:VTIMEZONE
BEGIN:VEVENT
UID:64313736-6365-4432-b233-323164316139
DTSTAMP:20260423T084442Z
CATEGORIES:Jazz
CLASS:PUBLIC
DESCRIPTION;ALTREP="CID:<FFFF__=0ABBE548DFE235B58f9e8a93d@coffeebean.com>":
 In der Kultur- und Musikstadt Basel finden über die Zusammenarbeit in unte
 rschiedlichen Formationen der professionellen Schweizer Jazzszene drei vir
 tuose Musiker zusammen. 2017 gründen sie das Jazz Trio «Gutfleisch-Schürma
 nn-Frey»\, um fortan ihre Leidenschaft für Swing\, Hardbop und Modern Jazz
  gemeinsam auszuleben.\nMit Sensibilität\, Erfahrung und Harmonie präsenti
 eren die drei Musiker stilsicher und versiert ein abwechslungsreiches Repe
 rtoire aus vorwiegend Eigenkompositionen der Bandmitglieder - mit einem ga
 nz persönlichen Sound. Unterschiedlichste stilistische Einflüsse und Rhyth
 men werden dabei gekonnt zu kompakten und eigenständigen Klangbildern zusa
 mmengeführt\, wobei die Vorliebe für einen sattelfesten Groove\, starke Me
 lodien und eine ausgefeilte Harmonik immer im Zentrum steht.\nChristian Gu
 tfleisch (p)\, Dominik Schürmann (db)\, Elmar Frey (dr)\nhttp://www.domini
 kschuermann.ch/index.php/bands/10-gutfleisch-schuermann-frey
DTSTART:20210522T181500Z
DTEND:20210522T181500Z
GEO:00;0
LOCATION:
ORGANIZER:
SEQUENCE:1
SUMMARY:Gutfleisch-Schürmann-Frey
TRANSP:OPAQUE
URL:https://www.esse.bar/index.php/veranstaltungen/vergangene-veranstaltung
 en/1364-gutfleisch-schuermann-frey-2/2021-05-22-20-15
END:VEVENT
END:VCALENDAR
