BEGIN:VCALENDAR
VERSION:2.0
PRODID:-//ESSE Musicbar Winterthur//NONSGML kigkonsult.se iCalcreator 2.41.92//
CALSCALE:GREGORIAN
METHOD:PUBLISH
UID:33623331-6462-4761-b664-383731313930
X-WR-CALNAME:iCagenda
X-WR-CALDESC:Event Management Extension for Joomla!
X-WR-RELCALID:3E26604A-50F4-4449-8B3E-E4F4932D05B5
X-WR-TIMEZONE:Europe/Zurich
BEGIN:VTIMEZONE
TZID:Europe/Zurich
TZUNTIL:20230326T010000Z
BEGIN:STANDARD
TZNAME:CET
DTSTART:20201025T030000
TZOFFSETFROM:+0200
TZOFFSETTO:+0100
RDATE:20211031T030000
RDATE:20221030T030000
END:STANDARD
BEGIN:DAYLIGHT
TZNAME:CEST
DTSTART:20210328T020000
TZOFFSETFROM:+0100
TZOFFSETTO:+0200
RDATE:20220327T020000
END:DAYLIGHT
END:VTIMEZONE
BEGIN:VEVENT
UID:31386436-3265-4837-b033-633536616363
DTSTAMP:20260423T090350Z
CATEGORIES:StandUp Choir
CLASS:PUBLIC
DESCRIPTION;ALTREP="CID:<FFFF__=0ABBE548DFE235B58f9e8a93d@coffeebean.com>":
 Start einer neuen Reihe in der ESSE Musicbar: Die beiden Winterthurer Beru
 fsmusiker Christian Rösli am Klavier und Andreas Zitz am Kontrabass (mit A
 drian Böckli am Schlagzeug bilden sie auch das bekannte «Adalbert von Mörs
 berg»-Trio) gestalten jeden dritten Freitag im Monat einen Themenabend. Ge
 meinsam mit wechselnden Gastmusiker*innen laden sie das Publikum auf eine 
 Zeitreise in die Vergangenheit ein. Dabei fokussiert man sich jeweils eine
 n Abend lang auf einen Interpreten\, legendäre Aufnahmen oder Stile vergan
 gener Epochen.\nDas Hauptaugenmerk liegt in erster Linie auf dem Great Ame
 rican Realbook und seiner Komponisten und Interpreten – aber nicht nur! Ga
 nz in der Tradition der Klassischen Musik will die neue Konzert-Reihe den 
 „alten Hasen“ und ihren Werken huldigen und diesen so einen würdigen Rahme
 n geben\, den sie leider – im Gegensatz zu den klassischen Monumenten – ni
 cht mehr oft bekommen.  \nIn diesem ersten Themenabend widmen sich die dre
 i Musiker den afroamerikanischen Spirituals\, welche sich mit der Sklavere
 i und deren Auswirkungen befassen.\nThomas Lüthi (ts)\, Christian Rösli (p
 )\, Andreas Zitz (db)\nhttps://andreaszitz.chhttps://www.konservatorium.ch
 /christian-rösliwww.thomasluethi.net
DTSTART:20210521T181500Z
DTEND:20210521T181500Z
GEO:00;0
LOCATION:
ORGANIZER:
SEQUENCE:1
SUMMARY:Don’t Forget The Poets – Afro American Spirituals
TRANSP:OPAQUE
URL:https://www.esse.bar/index.php/veranstaltungen/vergangene-veranstaltung
 en/1368-don-t-forget-the-poets-afro-american-spirituals/2021-05-21-20-15
END:VEVENT
END:VCALENDAR
