BEGIN:VCALENDAR
VERSION:2.0
PRODID:-//ESSE Musicbar Winterthur//NONSGML kigkonsult.se iCalcreator 2.41.92//
CALSCALE:GREGORIAN
METHOD:PUBLISH
UID:36383065-3735-4366-b432-306137633264
X-WR-CALNAME:iCagenda
X-WR-CALDESC:Event Management Extension for Joomla!
X-WR-RELCALID:3E26604A-50F4-4449-8B3E-E4F4932D05B5
X-WR-TIMEZONE:Europe/Zurich
BEGIN:VTIMEZONE
TZID:Europe/Zurich
TZUNTIL:20230326T010000Z
BEGIN:STANDARD
TZNAME:CET
DTSTART:20201025T030000
TZOFFSETFROM:+0200
TZOFFSETTO:+0100
RDATE:20211031T030000
RDATE:20221030T030000
END:STANDARD
BEGIN:DAYLIGHT
TZNAME:CEST
DTSTART:20210328T020000
TZOFFSETFROM:+0100
TZOFFSETTO:+0200
RDATE:20220327T020000
END:DAYLIGHT
END:VTIMEZONE
BEGIN:VEVENT
UID:66376639-6266-4563-b735-353137656430
DTSTAMP:20260423T085335Z
CATEGORIES:Jazz
CLASS:PUBLIC
DESCRIPTION;ALTREP="CID:<FFFF__=0ABBE548DFE235B58f9e8a93d@coffeebean.com>":
 Myzel: 'Der vegetative Teil eines Pilzes\; eine verzweigte Masse\, die von
  einer Reihe verwickelter Hyphen gebildet wird'.In der Natur ein zugrunde 
 liegendes\, unsichtbares Netzwerk\, das Organismen verbindet\, die sich no
 ch nie zuvor gekreuzt haben.\nEin Netzwerk\, das auch in der Musik existie
 rt und trotz unterschiedlicher Formen dieselbe Funktion erfüllt: Es bringt
  Individuen zusammen und schafft Verbindungen\, wo sie vorher nicht existi
 erten. Ein musikalisches Netzwerk\, das aus einer Reihe gemeinsamer Einflü
 sse\, Klänge und Ausdrucksformen besteht.\nDies ermöglicht es einer Gruppe
  von Musikern\, in einem anonymen Raum zusammenzukommen und einzigartige V
 erbindungen herzustellen. So war es auch mit dieser Band\, die aus dem Wun
 sch des Kontrabassisten Gianni Narduzzi geboren wurde\, diese zufällige Be
 gegnung\, die auf einer Reise in die Schweiz stattfand\, auf der Bühne zu 
 teilen.\nMit dem Quartett\, einer klassischen Jazz-Formation\, als Referen
 z möchte das von den Mitgliedern der Band komponierte Repertoire einen hom
 ogenen Klang erzeugen und gleichzeitig die Persönlichkeit jedes Mitglieds 
 wertschätzen.\nNeben den Schweizer Mitgliedern Tobias Pfister (Saxophon\,)
  Samir Böhringer (Schlagzeug) und Javier Leutenegger (Klavier) spielt der 
 in Porto lebende italienische Bassist Gianni Narduzzi.\nTobias Pfister (s)
 \, Javier Leutenegger (p)\, Gianni Narduzzi (db)\, Samir Böhringer (dr)\nh
 ttps://www.youtube.com/watch?v=AO5lHF9JK98https://www.youtube.com/watch?v=
 zojE0T5adYk\nwww.tobiaspfister.comwww.samirboehringer.com
DTSTART:20210611T181500Z
DTEND:20210611T181500Z
GEO:00;0
LOCATION:
ORGANIZER:
SEQUENCE:1
SUMMARY:Micelio
TRANSP:OPAQUE
URL:https://www.esse.bar/index.php/veranstaltungen/vergangene-veranstaltung
 en/1370-micelio/2021-06-11-20-15
END:VEVENT
END:VCALENDAR
