BEGIN:VCALENDAR
VERSION:2.0
PRODID:-//ESSE Musicbar Winterthur//NONSGML kigkonsult.se iCalcreator 2.41.92//
CALSCALE:GREGORIAN
METHOD:PUBLISH
UID:31353930-3036-4562-b535-363564393339
X-WR-CALNAME:iCagenda
X-WR-CALDESC:Event Management Extension for Joomla!
X-WR-RELCALID:3E26604A-50F4-4449-8B3E-E4F4932D05B5
X-WR-TIMEZONE:Europe/Zurich
BEGIN:VTIMEZONE
TZID:Europe/Zurich
TZUNTIL:20230326T010000Z
BEGIN:STANDARD
TZNAME:CET
DTSTART:20201025T030000
TZOFFSETFROM:+0200
TZOFFSETTO:+0100
RDATE:20211031T030000
RDATE:20221030T030000
END:STANDARD
BEGIN:DAYLIGHT
TZNAME:CEST
DTSTART:20210328T020000
TZOFFSETFROM:+0100
TZOFFSETTO:+0200
RDATE:20220327T020000
END:DAYLIGHT
END:VTIMEZONE
BEGIN:VEVENT
UID:66323632-6463-4531-b631-633261616634
DTSTAMP:20260421T142721Z
CATEGORIES:Jazz
CLASS:PUBLIC
DESCRIPTION;ALTREP="CID:<FFFF__=0ABBE548DFE235B58f9e8a93d@coffeebean.com>":
 Das aus Luzern stammende Kammer-Jazz Trio «Kofferfisch» besticht mit einer
  eigenständigen musikalischen Sprache und lässt mit seinem Début-Album Cho
 lk aufhorchen. «Kofferfisch» bewegt sich leichtfüssig im Spannungsfeld von
  Tagtraum und Eruption.\nMit überzeugender Nonchalance verweben die Vokalk
 ünstlerin Myrta Amstad\, der Kontrabassist Urban Lienert und der Pianist A
 ndreas Meili ihre musikalischen Wurzeln mit Texturen aus entlegenen Weltge
 genden. Dabei entsteht ein faszinierender Mikrokosmos aus rhythmisch-harmo
 nischen Klangmalereien\, wo sich melancholisch-verspielte Melodien zu bunt
  schillernden Geschichten formen. \nGekonnt umgarnt «Kofferfisch» das Publ
 ikum\, um bald darauf die Fäden auseinanderzureissen und neu zu ordnen. Fe
 rnweh trifft auf Heimweh\, melancholisch-verspielte Melodien ergänzen sich
  zu einem bunten Gemälde von Reiselust.\nMyrta Amstad (voc\, perc)\, Andre
 as Meili (p\, toys)\, Simon Iten (db)\nwww.kofferfisch.ch
DTSTART:20210910T181500Z
DTEND:20210910T181500Z
GEO:00;0
LOCATION:
ORGANIZER:
SEQUENCE:1
SUMMARY:Kofferfisch
TRANSP:OPAQUE
URL:https://www.esse.bar/index.php/veranstaltungen/vergangene-veranstaltung
 en/1371-bassic-vibes-18/2021-09-10-20-15
END:VEVENT
END:VCALENDAR
