BEGIN:VCALENDAR
VERSION:2.0
PRODID:-//ESSE Musicbar Winterthur//NONSGML kigkonsult.se iCalcreator 2.41.92//
CALSCALE:GREGORIAN
METHOD:PUBLISH
UID:34333764-6430-4464-a635-346564396333
X-WR-CALNAME:iCagenda
X-WR-CALDESC:Event Management Extension for Joomla!
X-WR-RELCALID:3E26604A-50F4-4449-8B3E-E4F4932D05B5
X-WR-TIMEZONE:Europe/Zurich
BEGIN:VTIMEZONE
TZID:Europe/Zurich
TZUNTIL:20230326T010000Z
BEGIN:STANDARD
TZNAME:CET
DTSTART:20201025T030000
TZOFFSETFROM:+0200
TZOFFSETTO:+0100
RDATE:20211031T030000
RDATE:20221030T030000
END:STANDARD
BEGIN:DAYLIGHT
TZNAME:CEST
DTSTART:20210328T020000
TZOFFSETFROM:+0100
TZOFFSETTO:+0200
RDATE:20220327T020000
END:DAYLIGHT
END:VTIMEZONE
BEGIN:VEVENT
UID:65373432-3830-4437-a135-656236333461
DTSTAMP:20260423T084729Z
CATEGORIES:Jazz
CLASS:PUBLIC
DESCRIPTION;ALTREP="CID:<FFFF__=0ABBE548DFE235B58f9e8a93d@coffeebean.com>":
 Ein Konzert zum Gedenken an Michael Ammann (16.6.1963 bis 28.4.2021)Früher
 er Co-Präsident im Vorstand des Jazz-Verein ESSE Winterthur. Spielte anno 
 2017 Kontrabass mit dem Pianisten Jürg Willi im Quartett «Four Nuts».\n«Fu
 ll House» – das sind 5 Männer in gestandenem Alter\, prosperierend in Beru
 f und Familie. Sie wissen wohl deshalb genau\, was sie wollen\, und haben 
 allesamt ihre musikalischen Träume aus der Jugendzeit ins Hier und Jetzt h
 inüber gerettet.\nDeshalb ist ihr musikalischer Auftritt frisch\, humorvol
 l\, kreativ und trotzdem abgeklärt – genau wie ihre Musik\, der sie sich v
 erschrieben haben: Es sind Perlen aus dem Soul-Jazz\, Blues-\, Fusion- und
  Rock-Fundus der letzten Jahrzehnte.\nThomas Keller (s)\, Reto Blümli (g)\
 , Jürg Willi (p\, keyb)\, Rolf Lehmann (b)\, Mark Bugmann (dr)\nhttp://ful
 lhousetheband.ch
DTSTART:20210617T181500Z
DTEND:20210617T181500Z
GEO:00;0
LOCATION:
ORGANIZER:
SEQUENCE:1
SUMMARY:Full House – Soul-Jazz\, Blues & Fusion
TRANSP:OPAQUE
URL:https://www.esse.bar/index.php/veranstaltungen/vergangene-veranstaltung
 en/1373-fullhouse-the-band/2021-06-17-20-15
END:VEVENT
END:VCALENDAR
