BEGIN:VCALENDAR
VERSION:2.0
PRODID:-//ESSE Musicbar Winterthur//NONSGML kigkonsult.se iCalcreator 2.41.92//
CALSCALE:GREGORIAN
METHOD:PUBLISH
UID:31373437-3430-4265-b631-663262653133
X-WR-CALNAME:iCagenda
X-WR-CALDESC:Event Management Extension for Joomla!
X-WR-RELCALID:3E26604A-50F4-4449-8B3E-E4F4932D05B5
X-WR-TIMEZONE:Europe/Zurich
BEGIN:VTIMEZONE
TZID:Europe/Zurich
TZUNTIL:20230326T010000Z
BEGIN:STANDARD
TZNAME:CET
DTSTART:20201025T030000
TZOFFSETFROM:+0200
TZOFFSETTO:+0100
RDATE:20211031T030000
RDATE:20221030T030000
END:STANDARD
BEGIN:DAYLIGHT
TZNAME:CEST
DTSTART:20210328T020000
TZOFFSETFROM:+0100
TZOFFSETTO:+0200
RDATE:20220327T020000
END:DAYLIGHT
END:VTIMEZONE
BEGIN:VEVENT
UID:30393332-6162-4366-b133-653737343066
DTSTAMP:20260423T090421Z
CATEGORIES:StandUp Choir
CLASS:PUBLIC
DESCRIPTION;ALTREP="CID:<FFFF__=0ABBE548DFE235B58f9e8a93d@coffeebean.com>":
 «Tenor Madness» heisst das 1956 erschienene Album des Sax-Titanen Sonny Ro
 llins\, welches er mit der vorübergehend beschäftigungslosen Band von Mile
 s Davis\, mit dem Pianisten Red Garland\, dem Bassisten Paul Chambers und 
 dem Schlagzeuger Philly Joe Jones aufnahm. Dieses Album war es denn auch\,
  das Rollins’ Ruf als einen der führenden Saxophonisten etablierte.\nIn de
 r zweiten Folge der Reihe «Don’t Forget The Poets» haben die beiden Initia
 nten Andreas Zitz (db) und Christian Rösli (p) die beiden Tenor-Saxophonis
 ten Christian Münchinger und Rafael Schilt sowie Pius Baschnagel als Schla
 gzeuger eingeladen\, um einerseits aus dem legendären «Sonny Rollins»-Albu
 m zu zitieren und andererseits das Tenorsax\, als wohl charakteristisches 
 Instrument des Jazz\, in den Mittelpunkt zu stellen.\nMit Christian Münchi
 nger und Rafael Schilt sind gleich zwei bekannte Interpreten ihres Instrum
 ents\, aber aus zwei Generationen und mit zwei unterschiedlichen Stimmen\,
  in der ESSE zu Gast.\nChristian Münchinger (ts)\, Rafael Schilt (ts)\, Ch
 ristian Rösli (p)\, Andreas Zitz (db)\, Pius Baschnagel (dr)\nhttps://de.w
 ikipedia.org/wiki/Christian_Münchingerhttps://www.rafaelschilt.comhttps://
 www.konservatorium.ch/christian-röslihttps://andreaszitz.chhttps://www.piu
 sbaschnagel.com
DTSTART:20210618T181500Z
DTEND:20210618T181500Z
GEO:00;0
LOCATION:
ORGANIZER:
SEQUENCE:1
SUMMARY:Don’t Forget The Poets – «Tenor Madness»
TRANSP:OPAQUE
URL:https://www.esse.bar/index.php/veranstaltungen/vergangene-veranstaltung
 en/1374-don-t-forget-the-poets-afro-american-spirituals-2/2021-06-18-20-15
END:VEVENT
END:VCALENDAR
