BEGIN:VCALENDAR
VERSION:2.0
PRODID:-//ESSE Musicbar Winterthur//NONSGML kigkonsult.se iCalcreator 2.41.92//
CALSCALE:GREGORIAN
METHOD:PUBLISH
UID:61656631-6437-4539-a138-356534653534
X-WR-CALNAME:iCagenda
X-WR-CALDESC:Event Management Extension for Joomla!
X-WR-RELCALID:3E26604A-50F4-4449-8B3E-E4F4932D05B5
X-WR-TIMEZONE:Europe/Zurich
BEGIN:VTIMEZONE
TZID:Europe/Zurich
TZUNTIL:20230326T010000Z
BEGIN:STANDARD
TZNAME:CET
DTSTART:20201025T030000
TZOFFSETFROM:+0200
TZOFFSETTO:+0100
RDATE:20211031T030000
RDATE:20221030T030000
END:STANDARD
BEGIN:DAYLIGHT
TZNAME:CEST
DTSTART:20210328T020000
TZOFFSETFROM:+0100
TZOFFSETTO:+0200
RDATE:20220327T020000
END:DAYLIGHT
END:VTIMEZONE
BEGIN:VEVENT
UID:32313361-6238-4366-b865-653830353639
DTSTAMP:20260423T084728Z
CATEGORIES:Blues
CLASS:PUBLIC
DESCRIPTION;ALTREP="CID:<FFFF__=0ABBE548DFE235B58f9e8a93d@coffeebean.com>":
 Seit bald zwanzig Jahren schlägt das Herz des Wiener Sängers und Gitarrist
 en Jörg Danielsen für die erdigste aller Musikrichtungen: den Blues. „Sark
 astisch\, fröhlich\, traurig\, zynisch\, schwarzhumorig – das ist mein Blu
 es!“ Bei Konzerten mit seiner Band\, der «Vienna Blues Association»\, bese
 tzt mit Bassist Walter Walterson und Schlagzeuger Christoph Karas\, werden
  Klassiker von Albert Collins\, Magic Slim und Muddy Waters ebenso zum Bes
 ten gegeben wie Songs aus eigener Feder.\nInspiriert von diversen Blues-St
 ilrichtungen bildet diese Band ein individuell gefärbtes Konglomerat\, gep
 rägt von der einzigartigen persönlichen Note der Musiker. Mit im Gepäck is
 t Danielsens mittlerweile viertes Album namens 'Guess Who's Got The Blues'
 . Das mit dem Stillsitzen dürfte schwierig werden.\nJörg Danielsen (g\, vo
 c)\, Walter Walterson (b)\, Christoph Karas (dr)\nhttps://www.bluesassocia
 tion.com
DTSTART:20210609T181500Z
DTEND:20210609T181500Z
GEO:00;0
LOCATION:
ORGANIZER:
SEQUENCE:1
SUMMARY:Jörg Danielsen’s Vienna Blues Association
TRANSP:OPAQUE
URL:https://www.esse.bar/index.php/veranstaltungen/vergangene-veranstaltung
 en/1375-joerg-danielsen-s-vienna-blues-association/2021-06-09-20-15
END:VEVENT
END:VCALENDAR
