BEGIN:VCALENDAR
VERSION:2.0
PRODID:-//ESSE Musicbar Winterthur//NONSGML kigkonsult.se iCalcreator 2.41.92//
CALSCALE:GREGORIAN
METHOD:PUBLISH
UID:38353766-6339-4435-b131-343832386666
X-WR-CALNAME:iCagenda
X-WR-CALDESC:Event Management Extension for Joomla!
X-WR-RELCALID:3E26604A-50F4-4449-8B3E-E4F4932D05B5
X-WR-TIMEZONE:Europe/Zurich
BEGIN:VTIMEZONE
TZID:Europe/Zurich
TZUNTIL:20230326T010000Z
BEGIN:STANDARD
TZNAME:CET
DTSTART:20201025T030000
TZOFFSETFROM:+0200
TZOFFSETTO:+0100
RDATE:20211031T030000
RDATE:20221030T030000
END:STANDARD
BEGIN:DAYLIGHT
TZNAME:CEST
DTSTART:20210328T020000
TZOFFSETFROM:+0100
TZOFFSETTO:+0200
RDATE:20220327T020000
END:DAYLIGHT
END:VTIMEZONE
BEGIN:VEVENT
UID:63303335-3338-4230-b032-326637613665
DTSTAMP:20260423T101429Z
CATEGORIES:Jazz
CLASS:PUBLIC
DESCRIPTION;ALTREP="CID:<FFFF__=0ABBE548DFE235B58f9e8a93d@coffeebean.com>":
 «Stringenz 432» ....tiefergestimmt – höhergenossen!\nTiefstapler - Minimal
 isten - niedere Kunst?\nMitnichten! Herbie Kopf und seine zahlreichen Musi
 kerkollegen zelebrieren in der neuen Serie «Stringenz 432» exquisite Gitar
 renmusik\, welche vom wärmeren und etwas dunkleren Timbre der um 10Hz tief
 ergestimmten Klampfen profitiert! (A= 432Hz\, anstatt 442Hz!).\nDie einzel
 nen Instrumente des Trios scheinen da wie zu einem grossen homogenen Klang
 körper zu verschmelzen\, und sowohl die Musiker untereinander\, wie auch d
 ie Zuhörenden fühlen sich näher miteinander verbunden. Das wiederum förder
 t die Art des aufeinander Agierens und Reagierens (Interplay) sehr stark. 
 Aber keine Angst: Trotz alledem können die geltenden Abstandsregeln (Covid
 19-Massnahmen) vorerst noch eingehalten werden... :-)\nErstes Trio der Ser
 ie «Stringenz 432»: B U K 3\nSie kennen sich schon lange und trafen schon 
 in verschiedensten musikalischen Besetzungen sporadisch aufeinander: Der a
 rgentinische Drummer Sergio Beresovsky und die beiden Zürcher Saitenvirtuo
 sen Felix Utzinger und Herbie Kopf. Auf Initiative Beresovskys hin gründet
 en sie im Herbst 2019 das «B U K 3»\, für das alle drei ihre Eigenkomposit
 ionen beisteuern: Grooviger zeitgenössischer Jazz mit viel Interaktion\, o
 ffenen Klangflächen\, spontanen Ausbrüchen... und natürlich mit spannenden
  solistischen Höhenflugen jedes Einzelnen!\nFelix Utzinger (g)\, Herbie Ko
 pf (eb)\, Sergio Beresovsky (dr)\nFelix Utzinger: https://www.zhdk.ch/pers
 on/prof-felix-utzinger-150880Herbie Kopf: http://www.herbiekopf.comSergio 
 Beresovsky: https://www.facebook.com/Sergio-Beresovsky-1384537238443241/
DTSTART:20210624T181500Z
DTEND:20210624T181500Z
GEO:00;0
LOCATION:
ORGANIZER:
SEQUENCE:1
SUMMARY:Herbie Kopf «Stringenz 432» – B U K 3
TRANSP:OPAQUE
URL:https://www.esse.bar/index.php/veranstaltungen/vergangene-veranstaltung
 en/1377-herbie-kopf-stringenz-432-b-u-k-3/2021-06-24-20-15
END:VEVENT
END:VCALENDAR
