BEGIN:VCALENDAR
VERSION:2.0
PRODID:-//ESSE Musicbar Winterthur//NONSGML kigkonsult.se iCalcreator 2.41.92//
CALSCALE:GREGORIAN
METHOD:PUBLISH
UID:63336632-3664-4261-b434-316366313731
X-WR-CALNAME:iCagenda
X-WR-CALDESC:Event Management Extension for Joomla!
X-WR-RELCALID:3E26604A-50F4-4449-8B3E-E4F4932D05B5
X-WR-TIMEZONE:Europe/Zurich
BEGIN:VTIMEZONE
TZID:Europe/Zurich
TZUNTIL:20230326T010000Z
BEGIN:STANDARD
TZNAME:CET
DTSTART:20201025T030000
TZOFFSETFROM:+0200
TZOFFSETTO:+0100
RDATE:20211031T030000
RDATE:20221030T030000
END:STANDARD
BEGIN:DAYLIGHT
TZNAME:CEST
DTSTART:20210328T020000
TZOFFSETFROM:+0100
TZOFFSETTO:+0200
RDATE:20220327T020000
END:DAYLIGHT
END:VTIMEZONE
BEGIN:VEVENT
UID:62393462-3036-4435-b763-643637663736
DTSTAMP:20260423T101956Z
CATEGORIES:Jazz
CLASS:PUBLIC
DESCRIPTION;ALTREP="CID:<FFFF__=0ABBE548DFE235B58f9e8a93d@coffeebean.com>":
 …plays Ellington!\nSchon als Jugendlicher von Schulkameraden zum „Duke“ (e
 ngl. Herzog) ernannt\, machte Edward „Duke“ Ellington diesem Titel zeitleb
 ens alle Ehre. Enormes musikalisches Talent\, Fleiss und ein wacher Geschä
 ftssinn\, gepaart mit vornehmer Ausstrahlung und geschliffenen Manieren\, 
 verhalfen Duke Ellington zu einer glanzvollen Musikkarriere als Komponist\
 , Band-Leader und Pianist.\nEllingtons musikalische Tradition ist im afroa
 merikanischen Gospel und Blues zu verorten. Sein Instrument war das Piano.
  Hier setzte er seine musikalischen und kompositorischen Ideen um. Zugleic
 h fungierte das Instrument als Mittler zwischen Ellington und seinem «Orch
 estra». In enger Zusammenarbeit mit seinen Bandmitgliedern – jedes für sic
 h ein Unikat\, das eigene Ideen\, Melodien\, Harmonien einbrachte – formte
  Duke Ellington den unverwechselbaren modernen Sound seines «Orchestra».\n
 Bereits seit vielen Jahren pflegt Tom Banholzer mit seinem Quintett den So
 und des Duke. Unter dem Titel «More Duke and live again» ist 2013 sogar ei
 ne CD erschienen\, die live in der alten ESSE an der Rudolfstrasse 24 vom 
 Winterthurer Radio Stadtfilter aufgezeichnet worden ist.\nHören und erlebe
 n Sie die schönsten Stücke von Duke Ellington in neuem Gewand - arrangiert
  von Tom Banholzer. Ganz nach dem Motto: Seingy\, funky\, groovy\, bluey a
 nd soulful Jazz for the people…\nAndi Maile (ts\,ss)\, Tom Banholzer (tp\,
  flh\, arr)\, Tobias Rädle (p)\, Karoline Höfler (db)\, Patrick Manzecchi 
 (dr)Special Guest: Joe Gallardo (tb)\nhttps://www.tombanholzermusic.com
DTSTART:20210828T181500Z
DTEND:20210828T181500Z
GEO:00;0
LOCATION:
ORGANIZER:
SEQUENCE:1
SUMMARY:Tom Banholzer Quintet feat. Joe Gallardo…
TRANSP:OPAQUE
URL:https://www.esse.bar/index.php/veranstaltungen/vergangene-veranstaltung
 en/1378-tom-banholzer-quintet-feat-joe-gallardo/2021-08-28-20-15
END:VEVENT
END:VCALENDAR
