BEGIN:VCALENDAR
VERSION:2.0
PRODID:-//ESSE Musicbar Winterthur//NONSGML kigkonsult.se iCalcreator 2.41.92//
CALSCALE:GREGORIAN
METHOD:PUBLISH
UID:65356134-3330-4238-a563-336638396439
X-WR-CALNAME:iCagenda
X-WR-CALDESC:Event Management Extension for Joomla!
X-WR-RELCALID:3E26604A-50F4-4449-8B3E-E4F4932D05B5
X-WR-TIMEZONE:Europe/Zurich
BEGIN:VTIMEZONE
TZID:Europe/Zurich
TZUNTIL:20230326T010000Z
BEGIN:STANDARD
TZNAME:CET
DTSTART:20201025T030000
TZOFFSETFROM:+0200
TZOFFSETTO:+0100
RDATE:20211031T030000
RDATE:20221030T030000
END:STANDARD
BEGIN:DAYLIGHT
TZNAME:CEST
DTSTART:20210328T020000
TZOFFSETFROM:+0100
TZOFFSETTO:+0200
RDATE:20220327T020000
END:DAYLIGHT
END:VTIMEZONE
BEGIN:VEVENT
UID:33393764-6665-4139-a165-646137353937
DTSTAMP:20260423T084559Z
CATEGORIES:Jazz
CLASS:PUBLIC
DESCRIPTION;ALTREP="CID:<FFFF__=0ABBE548DFE235B58f9e8a93d@coffeebean.com>":
 So schnell kann es gehen: Ein Handschlag\, ein 'Okidoki\, bin dabei!' - un
 d schon steht das Projekt. Die Band\, die der Zürcher Saxofonist Felix Str
 aumann extra für dieses Konzert zusammengestellt hat\, bietet Vertrautes u
 nd Überraschendes zugleich.\nSeine Mitmusiker Felix Utzinger (Gitarre)\, C
 hris Frey (Kontrabass) und Andi Wettstein (Drums) sind gestandene Jazzgrös
 sen und waren auch immer wieder Gast in der Esse. Doch in dieser Kombinati
 on haben sie noch nie zusammen musiziert. Das verspricht viel gutgelaunte 
 Spontanität\, knisternde Grooves und spannendes Interplay. Das Repertoire:
  Songs von Billie Holiday bis Eric Clapton und natürlich solche aus eigene
 r Feder.\nFelix Straumann (s)\, Felix Utzinger (g)\, Chris Frey (db)\, And
 i Wettstein (dr)
DTSTART:20210625T181500Z
DTEND:20210625T181500Z
GEO:00;0
LOCATION:
ORGANIZER:
SEQUENCE:1
SUMMARY:Okidoki Jazz Quartett
TRANSP:OPAQUE
URL:https://www.esse.bar/index.php/veranstaltungen/vergangene-veranstaltung
 en/1385-okidoki-jazz-quartett/2021-06-25-20-15
END:VEVENT
END:VCALENDAR
