BEGIN:VCALENDAR
VERSION:2.0
PRODID:-//ESSE Musicbar Winterthur//NONSGML kigkonsult.se iCalcreator 2.41.92//
CALSCALE:GREGORIAN
METHOD:PUBLISH
UID:32626666-6262-4834-a661-646437666463
X-WR-CALNAME:iCagenda
X-WR-CALDESC:Event Management Extension for Joomla!
X-WR-RELCALID:3E26604A-50F4-4449-8B3E-E4F4932D05B5
X-WR-TIMEZONE:Europe/Zurich
BEGIN:VTIMEZONE
TZID:Europe/Zurich
TZUNTIL:20231029T010000Z
BEGIN:STANDARD
TZNAME:CET
DTSTART:20201025T030000
TZOFFSETFROM:+0200
TZOFFSETTO:+0100
RDATE:20211031T030000
RDATE:20221030T030000
END:STANDARD
BEGIN:DAYLIGHT
TZNAME:CEST
DTSTART:20210328T020000
TZOFFSETFROM:+0100
TZOFFSETTO:+0200
RDATE:20220327T020000
RDATE:20230326T020000
END:DAYLIGHT
END:VTIMEZONE
BEGIN:VEVENT
UID:65356131-6661-4734-b661-653339326435
DTSTAMP:20260423T114319Z
CATEGORIES:Folk & More
CLASS:PUBLIC
DESCRIPTION;ALTREP="CID:<FFFF__=0ABBE548DFE235B58f9e8a93d@coffeebean.com>":
 Seit Jahren zaubert er mit herausragender Stimme\, Gitarre\, Ukulele und w
 underschönen Songs ein Stück Americana aus seinem schwarzen Zylinder. Pink
  Pedrazzi prägte mit Bands wie «The Moondog Show» die Schweizer Musikszene
 . Mit seinem Solo-Debut «A Calico Collection» zog der Basler Songwriter ei
 n weiteres musikalisches Ass aus dem Ärmel.\nNeu! Zwei EP’s mit je 5 Songs
 : “The Island“ und auf 10 inch Vinyl „Carry On”\nLive glänzt der erstaunli
 che Mike Bischof an Leadgitarre\, Bass und Backing Vocals\, Herbie Bach sp
 ielt Schlagzeug und singt\, die beiden liefern den wunderschön warmen und 
 erdigen Soundteppich für Pink Pedrazzi’s Ausnahmestimme.\nPink Pedrazzi (v
 oc\, g\, uku)\, Mike Bischof (b\, g\, voc)\, Herbie Bach (dr\, voc)\nwww.p
 inkpedrazzi.ch
DTSTART:20211024T173000Z
DTEND:20211024T173000Z
GEO:00;0
LOCATION:
ORGANIZER:
SEQUENCE:1
SUMMARY:Pink Pedrazzi & The Big Easy
TRANSP:OPAQUE
URL:https://www.esse.bar/index.php/veranstaltungen/vergangene-veranstaltung
 en/1386-pink-pedrazzi-the-big-easy/2021-10-24-19-30
END:VEVENT
END:VCALENDAR
