BEGIN:VCALENDAR
VERSION:2.0
PRODID:-//ESSE Musicbar Winterthur//NONSGML kigkonsult.se iCalcreator 2.41.92//
CALSCALE:GREGORIAN
METHOD:PUBLISH
UID:66643762-3337-4939-b466-633034383038
X-WR-CALNAME:iCagenda
X-WR-CALDESC:Event Management Extension for Joomla!
X-WR-RELCALID:3E26604A-50F4-4449-8B3E-E4F4932D05B5
X-WR-TIMEZONE:Europe/Zurich
BEGIN:VTIMEZONE
TZID:Europe/Zurich
TZUNTIL:20230326T010000Z
BEGIN:STANDARD
TZNAME:CET
DTSTART:20201025T030000
TZOFFSETFROM:+0200
TZOFFSETTO:+0100
RDATE:20211031T030000
RDATE:20221030T030000
END:STANDARD
BEGIN:DAYLIGHT
TZNAME:CEST
DTSTART:20210328T020000
TZOFFSETFROM:+0100
TZOFFSETTO:+0200
RDATE:20220327T020000
END:DAYLIGHT
END:VTIMEZONE
BEGIN:VEVENT
UID:39663036-3030-4863-a137-643863656133
DTSTAMP:20260423T101502Z
CATEGORIES:Jazz
CLASS:PUBLIC
DESCRIPTION;ALTREP="CID:<FFFF__=0ABBE548DFE235B58f9e8a93d@coffeebean.com>":
 Zurückreisen in die alte Zeit des Swings\, Bebop und Latin-Jazz – das könn
 en Sie mit den Musikern rund um den Dietiker Jazztrompeter Philipp Rellsta
 b. Mit seiner reichen Erfahrung wird er gerne bei Projekten im Jazz-\, wie
  auch im klassischen Bereich als freier Musiker zugezogen. So spielte er m
 it Franco Ambrosetti\, Thomas Dobler\, Candy Dulfer\, Dusko Goykovich\, Jü
 rg Grau\, Scott Hamilton\, Ack van Rooyen\, Kenny Wheeler und vielen ander
 en.\nMit seiner Jazz Group hat Phillipp Rellstab gemeinsam mit Daniel Affe
 ntranger (Baritonsaxophon und Querflöte)\, Christoph Hegi (Piano)\, Marc H
 errmann (Bass) und Martin Meyer (Drums) hat er ein äusserst vielseitiges P
 rogramm vorbereitet\, das keine Wünsche offen lässt. Von bekannten Nummern
  der Bebop-Aera\, über Swing-Klassiker und zahlreichen Eigenkompositionen 
 findet sich für alle Zuhörenden etwas.\nPhilipp Rellstab (tp\, flh)\, Dani
 el Affentranger (bs\, fl)\, Christoph Hegi (p)\, Marc Herrmann (b)\, Marti
 n Meyer (dr)\nwww.philipprellstab.com
DTSTART:20210813T181500Z
DTEND:20210813T181500Z
GEO:00;0
LOCATION:
ORGANIZER:
SEQUENCE:1
SUMMARY:Philipp Rellstab Jazz Group
TRANSP:OPAQUE
URL:https://www.esse.bar/index.php/veranstaltungen/vergangene-veranstaltung
 en/1403-philipp-rellstab-jazz-group/2021-08-13-20-15
END:VEVENT
END:VCALENDAR
