BEGIN:VCALENDAR
VERSION:2.0
PRODID:-//ESSE Musicbar Winterthur//NONSGML kigkonsult.se iCalcreator 2.41.92//
CALSCALE:GREGORIAN
METHOD:PUBLISH
UID:32646537-3135-4462-b237-303965316630
X-WR-CALNAME:iCagenda
X-WR-CALDESC:Event Management Extension for Joomla!
X-WR-RELCALID:3E26604A-50F4-4449-8B3E-E4F4932D05B5
X-WR-TIMEZONE:Europe/Zurich
BEGIN:VTIMEZONE
TZID:Europe/Zurich
TZUNTIL:20230326T010000Z
BEGIN:STANDARD
TZNAME:CET
DTSTART:20201025T030000
TZOFFSETFROM:+0200
TZOFFSETTO:+0100
RDATE:20211031T030000
RDATE:20221030T030000
END:STANDARD
BEGIN:DAYLIGHT
TZNAME:CEST
DTSTART:20210328T020000
TZOFFSETFROM:+0100
TZOFFSETTO:+0200
RDATE:20220327T020000
END:DAYLIGHT
END:VTIMEZONE
BEGIN:VEVENT
UID:39633932-3135-4131-b735-623064356361
DTSTAMP:20260423T100650Z
CATEGORIES:Folk & More
CLASS:PUBLIC
DESCRIPTION;ALTREP="CID:<FFFF__=0ABBE548DFE235B58f9e8a93d@coffeebean.com>":
 Die Sängerin Devi Reith und der Gitarrist Felix Utzinger schreiben zusamme
 n Songs von tiefer Verbundenheit\, die das Herz bewegen. Die Texte von Dev
 i Reith handeln von Sehnsüchten\, welche die Zuhörer auf eine Reise in inn
 ere Welten einladen.\nWilly Kotoun verleiht der Musik mit raffinierten Rhy
 thmen eine verspielte Bodenständigkeit. Mit Harmonium\, Klavier\, perkussi
 ven Sounds und dem Einbinden von Loops erweitert das Trio den Farbenreicht
 um ihrer Musik auf mehreren Ebenen\, so dass diese intime Formation zu orc
 hestralen Klängen abheben kann.\nStilistisch ist das Trio inspiriert von d
 er World-Musik mit indischen und südamerikanisch indigenen Einflüssen. Abe
 r auch die Blackamerican-Music und Songwriter-Tradition findet Eingang in 
 die musikalischen Ausflüge. Für die «Folk &amp\; more» Konzertreihe hat di
 e Band ihr musikalisches Programm speziell noch mit wunderschönen Songs vo
 n Joni Mitchell und Tracy Chapman erweitert.\nDevi Reith (voc\, p\, Harmon
 ium)\, Felix Utzinger (g\, Loops)\, Willy Kotoun (perc)\nhttps://www.devir
 eith.com/de/
DTSTART:20210822T173000Z
DTEND:20210822T173000Z
GEO:00;0
LOCATION:
ORGANIZER:
SEQUENCE:1
SUMMARY:Devi\, Felix & Willy
TRANSP:OPAQUE
URL:https://www.esse.bar/index.php/veranstaltungen/vergangene-veranstaltung
 en/1404-devi-reith-trio-2/2021-08-22-19-30
END:VEVENT
END:VCALENDAR
