BEGIN:VCALENDAR
VERSION:2.0
PRODID:-//ESSE Musicbar Winterthur//NONSGML kigkonsult.se iCalcreator 2.41.92//
CALSCALE:GREGORIAN
METHOD:PUBLISH
UID:61646632-3865-4630-a439-316365643439
X-WR-CALNAME:iCagenda
X-WR-CALDESC:Event Management Extension for Joomla!
X-WR-RELCALID:3E26604A-50F4-4449-8B3E-E4F4932D05B5
X-WR-TIMEZONE:Europe/Zurich
BEGIN:VTIMEZONE
TZID:Europe/Zurich
TZUNTIL:20231029T010000Z
BEGIN:STANDARD
TZNAME:CET
DTSTART:20201025T030000
TZOFFSETFROM:+0200
TZOFFSETTO:+0100
RDATE:20211031T030000
RDATE:20221030T030000
END:STANDARD
BEGIN:DAYLIGHT
TZNAME:CEST
DTSTART:20210328T020000
TZOFFSETFROM:+0100
TZOFFSETTO:+0200
RDATE:20220327T020000
RDATE:20230326T020000
END:DAYLIGHT
END:VTIMEZONE
BEGIN:VEVENT
UID:32646530-3866-4930-b165-343335333932
DTSTAMP:20260423T104903Z
CATEGORIES:Jazz
CLASS:PUBLIC
DESCRIPTION;ALTREP="CID:<FFFF__=0ABBE548DFE235B58f9e8a93d@coffeebean.com>":
 Die Band «Sting Operaton» ist auf neuer Mission und erkundet die Songs von
  Bessie Smith - der 'Empress of the Blues'\, die in den 'Roaring Twenties'
  ihre grosse Zeit hatte. Weiterhin im Repertoire sind Highlights aus den b
 eiden vorherigen Programmen «Woodstock Jazz» und «The Music Of Gordon Matt
 hew Sumner (Sting).\nEs gibt zahllose Musikstücke\, die kennt praktisch je
 der - oft ohne zu wissen\, woher. Das Jazzprojekt «Sting Operaton» (engl. 
 verdeckte Ermittlung) wildert seit ein paar Jahren in diesem Fundus und ve
 rwendet musikalisches Allgemeingut als Ausgangspunkt für eigenwillige Inte
 rpretationen.\nFür das aktuelle Programm hat sich die Band um den Zürcher 
 Saxofonisten Felix Straumann die Songs der legendären Sängerin Bessie Smit
 h vorgenommen. Die 'Empress of the Blues' hatte in den Goldenen Zwanzigerj
 ahren ihre grosse Zeit undFührte ein Leben\, das viele heutige Popstars ge
 radezu als Chorknaben dastehen lässt. Viele der Lieder\, die sie gesungen 
 hat\, sind bis heute bekannt.\nFelix Straumann (s)\, Devi Reith (voc)\, Ma
 tthias Siegrist (g)\, Peter Leutzinger (b)\, Peter Preibisch (dr)\nwww.sti
 ng-operation.com
DTSTART:20211001T181500Z
DTEND:20211001T181500Z
GEO:00;0
LOCATION:
ORGANIZER:
SEQUENCE:1
SUMMARY:Sting Operation – Bessie Smith and The Roaring Twenties
TRANSP:OPAQUE
URL:https://www.esse.bar/index.php/veranstaltungen/vergangene-veranstaltung
 en/1405-sting-operation/2021-10-01-20-15
END:VEVENT
END:VCALENDAR
