BEGIN:VCALENDAR
VERSION:2.0
PRODID:-//ESSE Musicbar Winterthur//NONSGML kigkonsult.se iCalcreator 2.41.92//
CALSCALE:GREGORIAN
METHOD:PUBLISH
UID:31626561-3262-4130-b765-656434353061
X-WR-CALNAME:iCagenda
X-WR-CALDESC:Event Management Extension for Joomla!
X-WR-RELCALID:3E26604A-50F4-4449-8B3E-E4F4932D05B5
X-WR-TIMEZONE:Europe/Zurich
BEGIN:VTIMEZONE
TZID:Europe/Zurich
TZUNTIL:20230326T010000Z
BEGIN:STANDARD
TZNAME:CET
DTSTART:20201025T030000
TZOFFSETFROM:+0200
TZOFFSETTO:+0100
RDATE:20211031T030000
RDATE:20221030T030000
END:STANDARD
BEGIN:DAYLIGHT
TZNAME:CEST
DTSTART:20210328T020000
TZOFFSETFROM:+0100
TZOFFSETTO:+0200
RDATE:20220327T020000
END:DAYLIGHT
END:VTIMEZONE
BEGIN:VEVENT
UID:32353864-6532-4265-b862-356135343265
DTSTAMP:20260423T090309Z
CATEGORIES:In eigener Sache
CLASS:PUBLIC
DESCRIPTION;ALTREP="CID:<FFFF__=0ABBE548DFE235B58f9e8a93d@coffeebean.com>":
 Suzie Candell and the Screwdrivers - «Restless»\nHinter Suzie Candell verb
 irgt sich ein wahres Ausnahmetalent. Sie hat alles\, was eine Sängerin und
  Songwriterin auf internationalem Niveau ausmacht: Ausdrucksstärke\, Tiefg
 ang und mitreissende eigene Songs.\nGekonnt vermischt sie moderne und trad
 itionelle Elemente amerikanischer Country- und Roots-Musik. Inspiriert dur
 ch zahlreiche Aufenthalte in der Country Hochburg Nashville TN und dem fre
 iheitsliebenden Kalifornien\, bringt Suzie Candell ein Stück dieser unendl
 ichen Weite Amerikas auf die heimische Bühne. Ihr neues Album «Restless» r
 eicht vom überraschend deftigen Country-Rock-Titel\, über Südstaaten-Blues
  bis hin zu unglaublich gefühlvollen Balladen. Mit ihrer einzigartigen Sti
 mme und Bühnenpräsenz entführt sie das Publikum geradezu in eine andere We
 lt.\nEin Mix aus modernen Pop-Klängen und traditionellem Country\, gewürzt
  mit altbewährten Rock- und Blues-Soli: Diese einzigartige Americana-Musik
  bringen Suzie Candell und ihre Band fulminant auf die Bühne. Mit dreistim
 migen Harmonie-Gesängen\, E-Gitarre\, Pedal-Steel\, Schlagzeug und Bass is
 t ein facettenreiches Konzerterlebnis garantiert. «Suzie Candell and the S
 crewdrivers» sind seit acht Jahren in der Schweiz und im Ausland zu sehen.
  Das Publikum ist sich einig: eine Wucht.\nSuzie Candell (voc\, g)\, Mike 
 Bischof (g\, voc)\, Thomas Marmier (g\, pedal steel)\, Dominic Benz (b)\, 
 Lukas Landis (dr)\nhttps://www.suziecandell.com\nBooking unter https://www
 .eisenwerk.ch/programm/48/1270-Vibeanü-Suzie-Candell-the-Screwdrivers/
DTSTART:20210710T183000Z
DTEND:20210710T183000Z
GEO:00;0
LOCATION:
ORGANIZER:
SEQUENCE:1
SUMMARY:Konzert im Eisenwerk Frauenfeld
TRANSP:OPAQUE
URL:https://www.esse.bar/index.php/veranstaltungen/vergangene-veranstaltung
 en/1406-konzert-im-eisenwerk-frauenfeld/2021-07-10-20-30
END:VEVENT
END:VCALENDAR
