BEGIN:VCALENDAR
VERSION:2.0
PRODID:-//ESSE Musicbar Winterthur//NONSGML kigkonsult.se iCalcreator 2.41.92//
CALSCALE:GREGORIAN
METHOD:PUBLISH
UID:61383238-3030-4531-b863-356231643666
X-WR-CALNAME:iCagenda
X-WR-CALDESC:Event Management Extension for Joomla!
X-WR-RELCALID:3E26604A-50F4-4449-8B3E-E4F4932D05B5
X-WR-TIMEZONE:Europe/Zurich
BEGIN:VTIMEZONE
TZID:Europe/Zurich
TZUNTIL:20230326T010000Z
BEGIN:STANDARD
TZNAME:CET
DTSTART:20201025T030000
TZOFFSETFROM:+0200
TZOFFSETTO:+0100
RDATE:20211031T030000
RDATE:20221030T030000
END:STANDARD
BEGIN:DAYLIGHT
TZNAME:CEST
DTSTART:20210328T020000
TZOFFSETFROM:+0100
TZOFFSETTO:+0200
RDATE:20220327T020000
END:DAYLIGHT
END:VTIMEZONE
BEGIN:VEVENT
UID:32633036-6361-4432-b766-623735306363
DTSTAMP:20260423T101715Z
CATEGORIES:Jazz
CLASS:PUBLIC
DESCRIPTION;ALTREP="CID:<FFFF__=0ABBE548DFE235B58f9e8a93d@coffeebean.com>":
 Funkig – Jazzig – Bluesig – Groovig\nNein\, natürlich handelt es sich hier
  nicht um eine Cover-Band der berühmten US-amerikanischen Rockabilly-Pioni
 ere. Die «Groovy Straycats» sind eine Gruppe von Schweizer Jazzern\, die m
 it sehr viel Spielfreude auf hohem Niveau Jazz\, Funk\, Blues\, Soul und L
 atin zelebrieren.\nDie teils als professionellen Musiker und teils als Ama
 teure tätigen Jazzer sind allesamt hervorragende Solisten und sie spielen 
 ausnahmslos in einem breiten Spektrum - vom traditionellen Jazz über Swing
 \, Funk\, Soul\, Latin bis hin zum modernen Mainstream. Diese Flexibilität
  zeigt sich sowohl in den interessanten und aussagekräftigen Solis\, als a
 uch bei der individuellen Interpretation bekannter Melodien.\nDie Vielseit
 igkeit dieser Band lässt Langeweile gar nicht erst aufkommen\, da läuft im
 mer etwas – dauernd und lückenlos. Es swingt und groovt und niemand kann s
 till sitzen bleiben und sich dem quirligen Sound entziehen. Und wenn sie s
 ich richtigin den Groove gespielt haben\, dann geht die Post ab und kein F
 uss bleibt unbewegt.\nPhilippe Chrétien (ts)\, Richard Schmied (tp\, flh)\
 , Elmar Kluth (p)\, Ivan Masha Künzli (g)\, Lukas Meier (dr)
DTSTART:20210826T181500Z
DTEND:20210826T181500Z
GEO:00;0
LOCATION:
ORGANIZER:
SEQUENCE:1
SUMMARY:Groovy Straycats
TRANSP:OPAQUE
URL:https://www.esse.bar/index.php/veranstaltungen/vergangene-veranstaltung
 en/1407-groovy-straycats/2021-08-26-20-15
END:VEVENT
END:VCALENDAR
