BEGIN:VCALENDAR
VERSION:2.0
PRODID:-//ESSE Musicbar Winterthur//NONSGML kigkonsult.se iCalcreator 2.41.92//
CALSCALE:GREGORIAN
METHOD:PUBLISH
UID:35316235-3039-4030-a436-653563316666
X-WR-CALNAME:iCagenda
X-WR-CALDESC:Event Management Extension for Joomla!
X-WR-RELCALID:3E26604A-50F4-4449-8B3E-E4F4932D05B5
X-WR-TIMEZONE:Europe/Zurich
BEGIN:VTIMEZONE
TZID:Europe/Zurich
TZUNTIL:20230326T010000Z
BEGIN:STANDARD
TZNAME:CET
DTSTART:20201025T030000
TZOFFSETFROM:+0200
TZOFFSETTO:+0100
RDATE:20211031T030000
RDATE:20221030T030000
END:STANDARD
BEGIN:DAYLIGHT
TZNAME:CEST
DTSTART:20210328T020000
TZOFFSETFROM:+0100
TZOFFSETTO:+0200
RDATE:20220327T020000
END:DAYLIGHT
END:VTIMEZONE
BEGIN:VEVENT
UID:39303466-6663-4437-b639-366365656465
DTSTAMP:20260423T102120Z
CATEGORIES:Folk & More
CLASS:PUBLIC
DESCRIPTION;ALTREP="CID:<FFFF__=0ABBE548DFE235B58f9e8a93d@coffeebean.com>":
 Die drei Väter spielen seit etlichen Jahren immer wieder mal zusammen Musi
 k mit Schwerpunkt 60er/70er-Jahre.\nUnd zu hören gibt es da Souliges und B
 luesiges von Otis Redding\, Van Morrison und den Allman Brothers\, aber au
 ch Pop-Trouvaillen von Tom Petty und David Bowie\, den Doors oder den Smal
 l Faces – ohne Schlagzeug und Bass\, ganz im sommerleichten Trio.\nRenato 
 Frischknecht (voc)\, Christian Roffler (p\, keyb)\, Jonathan Gubler (g)
DTSTART:20210808T173000Z
DTEND:20210808T173000Z
GEO:00;0
LOCATION:
ORGANIZER:
SEQUENCE:1
SUMMARY:Great Fool Dad – Lieblingslieder aus der Rock- und Pop-Geschichte
TRANSP:OPAQUE
URL:https://www.esse.bar/index.php/veranstaltungen/vergangene-veranstaltung
 en/1413-great-fool-dad-lieblingslieder-aus-der-rock-und-pop-geschichte/202
 1-08-08-19-30
END:VEVENT
END:VCALENDAR
