BEGIN:VCALENDAR
VERSION:2.0
PRODID:-//ESSE Musicbar Winterthur//NONSGML kigkonsult.se iCalcreator 2.41.92//
CALSCALE:GREGORIAN
METHOD:PUBLISH
UID:38623231-3265-4830-b730-353731353931
X-WR-CALNAME:iCagenda
X-WR-CALDESC:Event Management Extension for Joomla!
X-WR-RELCALID:3E26604A-50F4-4449-8B3E-E4F4932D05B5
X-WR-TIMEZONE:Europe/Zurich
BEGIN:VTIMEZONE
TZID:Europe/Zurich
TZUNTIL:20230326T010000Z
BEGIN:STANDARD
TZNAME:CET
DTSTART:20201025T030000
TZOFFSETFROM:+0200
TZOFFSETTO:+0100
RDATE:20211031T030000
RDATE:20221030T030000
END:STANDARD
BEGIN:DAYLIGHT
TZNAME:CEST
DTSTART:20210328T020000
TZOFFSETFROM:+0100
TZOFFSETTO:+0200
RDATE:20220327T020000
END:DAYLIGHT
END:VTIMEZONE
BEGIN:VEVENT
UID:62643764-6462-4166-b961-636239356534
DTSTAMP:20260423T101640Z
CATEGORIES:Folk & More
CLASS:PUBLIC
DESCRIPTION;ALTREP="CID:<FFFF__=0ABBE548DFE235B58f9e8a93d@coffeebean.com>":
 Sandro Vetsch stammt ursprünglich aus Winterthur und arbeitet selbstständi
 g als Musiker\, Komponist und Musiklehrer. Seine eigenen Projekte laufen u
 nter dem Namen Sachofender-Music\, darunter sind Bands wie «Sacho and the 
 Bittersweets» «Sacho’s Singing Birds» oder eben das «Sandro Vetsch Trio». 
 Seit 2010 ist er auch Mitglied in der «Lukas Bosshardt Organband»\, wo die
  Hammond-Orgel im Zentrum steht.\nVetschs Musik bewegt sich sehr frei von 
 Jazz nach Pop\, von Blues nach Rock. Er lässt sich nicht so gerne kategori
 sieren. Im Trio spielen die Musiker bluesige Jazz-Songs aus der Feder von 
 Sandro Vetsch\, aber auch auserlesene Covers. Die Musik ist meist schweben
 d\, verträumt und mit wunderbaren Wendungen verziert. Es wird viel Improvi
 siert\, gesucht\, gefunden\, erfunden\, bewegt\, erlebt und gelebt.\nSandr
 o Vetsch (g\, voc)\, Nick Mens (b)\, Martin Fischer (dr)\, Special Guest: 
 Phil Powel (tb)\nhttps://www.sachofender.ch
DTSTART:20210815T170000Z
DTEND:20210815T170000Z
GEO:00;0
LOCATION:
ORGANIZER:
SEQUENCE:1
SUMMARY:Sandro Vetsch Trio
TRANSP:OPAQUE
URL:https://www.esse.bar/index.php/veranstaltungen/vergangene-veranstaltung
 en/1414-sandro-vetsch-trio/2021-08-15-19-00
END:VEVENT
END:VCALENDAR
