BEGIN:VCALENDAR
VERSION:2.0
PRODID:-//ESSE Musicbar Winterthur//NONSGML kigkonsult.se iCalcreator 2.41.92//
CALSCALE:GREGORIAN
METHOD:PUBLISH
UID:65323533-3561-4963-b666-313265363333
X-WR-CALNAME:iCagenda
X-WR-CALDESC:Event Management Extension for Joomla!
X-WR-RELCALID:3E26604A-50F4-4449-8B3E-E4F4932D05B5
X-WR-TIMEZONE:Europe/Zurich
BEGIN:VTIMEZONE
TZID:Europe/Zurich
TZUNTIL:20230326T010000Z
BEGIN:STANDARD
TZNAME:CET
DTSTART:20201025T030000
TZOFFSETFROM:+0200
TZOFFSETTO:+0100
RDATE:20211031T030000
RDATE:20221030T030000
END:STANDARD
BEGIN:DAYLIGHT
TZNAME:CEST
DTSTART:20210328T020000
TZOFFSETFROM:+0100
TZOFFSETTO:+0200
RDATE:20220327T020000
END:DAYLIGHT
END:VTIMEZONE
BEGIN:VEVENT
UID:38643130-3561-4330-a666-613933373566
DTSTAMP:20260423T102009Z
CATEGORIES:Jazz
CLASS:PUBLIC
DESCRIPTION;ALTREP="CID:<FFFF__=0ABBE548DFE235B58f9e8a93d@coffeebean.com>":
 «Fullhouse» zum Zweiten: Nach dem Konzert zum Gedanken an den verstorbenen
  Michael Ammann (früherer Co-Präsident im Vorstand des Jazz-Verein ESSE) i
 m vergangenen Juni\, nun ein erneuter Auftritt: «Fullhouse» – das sind 5 M
 änner in gestandenem Alter\, prosperierend in Beruf und Familie. Sie wisse
 n wohl deshalb genau\, was sie wollen\, und haben allesamt ihre musikalisc
 hen Träume aus der Jugendzeit ins Hier und Jetzt hinüber gerettet.\nDeshal
 b ist ihr musikalischer Auftritt frisch\, humorvoll\, kreativ und trotzdem
  abgeklärt – genau wie die Musik\, der sie sich verschrieben haben: Es sin
 d Perlen aus dem Soul-Jazz\, Blues-\, Fusion- und Rock-Fundus der letzten 
 Jahrzehnte. Als Special Guest an Flügelhorn und Trompete wirkt zusätzlich 
 Beat Bossart mit.\nThomas Keller (s)\, Reto Blümli (g)\, Jürg Willi (p\, k
 eyb)\, Rolf Lehmann (b)\, Mark Bugmann (dr)Special guest: Beat Bossart (fl
 h)\nhttp://fullhousetheband.ch\n 
DTSTART:20210909T181500Z
DTEND:20210909T181500Z
GEO:00;0
LOCATION:
ORGANIZER:
SEQUENCE:1
SUMMARY:Fullhouse – Soul-Jazz\, Blues & Fusion
TRANSP:OPAQUE
URL:https://www.esse.bar/index.php/veranstaltungen/vergangene-veranstaltung
 en/1415-fullhouse-the-band-2/2021-09-09-20-15
END:VEVENT
END:VCALENDAR
