BEGIN:VCALENDAR
VERSION:2.0
PRODID:-//ESSE Musicbar Winterthur//NONSGML kigkonsult.se iCalcreator 2.41.92//
CALSCALE:GREGORIAN
METHOD:PUBLISH
UID:39653466-3134-4630-a431-346639383132
X-WR-CALNAME:iCagenda
X-WR-CALDESC:Event Management Extension for Joomla!
X-WR-RELCALID:3E26604A-50F4-4449-8B3E-E4F4932D05B5
X-WR-TIMEZONE:Europe/Zurich
BEGIN:VTIMEZONE
TZID:Europe/Zurich
TZUNTIL:20230326T010000Z
BEGIN:STANDARD
TZNAME:CET
DTSTART:20201025T030000
TZOFFSETFROM:+0200
TZOFFSETTO:+0100
RDATE:20211031T030000
RDATE:20221030T030000
END:STANDARD
BEGIN:DAYLIGHT
TZNAME:CEST
DTSTART:20210328T020000
TZOFFSETFROM:+0100
TZOFFSETTO:+0200
RDATE:20220327T020000
END:DAYLIGHT
END:VTIMEZONE
BEGIN:VEVENT
UID:30303562-3932-4735-b763-356563326333
DTSTAMP:20260423T103302Z
CATEGORIES:Spezial-Anlass mit Eintritt
CLASS:PUBLIC
DESCRIPTION;ALTREP="CID:<FFFF__=0ABBE548DFE235B58f9e8a93d@coffeebean.com>":
 «Es ist gut\, wenn man einen hat\,  auf den man warten kann  wenn man  all
 ein  überhaupt»\nRuth will vergessen. Meret ist auf der Suche. Die beiden 
 Frauen treffen sich Tag für Tag auf einer Bank. Zufällig oder nicht? Stück
  für Stück nähern sich die beiden an\, tauchen ein in ihre Geschichten.\nD
 ie Musikerin Anna Trauffer mischt sich mit Kontrabass und Gesang in den Di
 alog der beiden Frauen ein\, begleitet ihre Erinnerungen und Sehnsüchte\, 
 macht Ungesagtes hörbar.\nGespielt wird im Innenhof des Zeughaus 1 in Wint
 erthur. Alle 50 Zuschauer*innen hören den Ton über einen Kopfhörer\, den s
 ie vor Ort in Empfang nehmen können. Nach der Aufführung empfiehlt sich ei
 n feines Essen der ESSE Musicbar.\nText: Beatrice Stebler Regie: Eveline R
 atering Spiel: Ruth Schwegler\, Sofia Elena Borsani Live-Musik: Anna Trauf
 fer Technik: Andi Luchsinger Ausstattung: Marina Landolt Grafik: Bertilla 
 Spinas Oeil Extérieur: Ingo Ospelt\nProgramm\n17.30 Uhr Baröffnung 18.30 A
 ufführung «Die Bank» 20.00 Nachtessen\n«Die Bank» - Beitrag von Radio SRF 
 2: SRF2 Kultur\nReservation Ticket und Essen Platzzahl beschränkt – Anmeld
 ung erforderlich | Tickets\nPreis:  Theatereintritt: CHF 35.— Kulturlegi/S
 tudent*innen/Theaterschaffende: 25.— Vegetarisches «Red Thai Curry»: CHF 2
 0.— Getränke separat\nwww.kulturfutur.ch
DTSTART:20210912T163000Z
DTEND:20210912T163000Z
GEO:00;0
LOCATION:
ORGANIZER:
SEQUENCE:1
SUMMARY:«Die Bank» - Live-Hörspiel mit Musik
TRANSP:OPAQUE
URL:https://www.esse.bar/index.php/veranstaltungen/vergangene-veranstaltung
 en/1418-die-bank-live-hoerspiel-mit-musik-2/2021-09-12-18-30
END:VEVENT
END:VCALENDAR
