BEGIN:VCALENDAR
VERSION:2.0
PRODID:-//ESSE Musicbar Winterthur//NONSGML kigkonsult.se iCalcreator 2.41.92//
CALSCALE:GREGORIAN
METHOD:PUBLISH
UID:63346439-6262-4364-a464-656563623137
X-WR-CALNAME:iCagenda
X-WR-CALDESC:Event Management Extension for Joomla!
X-WR-RELCALID:3E26604A-50F4-4449-8B3E-E4F4932D05B5
X-WR-TIMEZONE:Europe/Zurich
BEGIN:VTIMEZONE
TZID:Europe/Zurich
TZUNTIL:20230326T010000Z
BEGIN:STANDARD
TZNAME:CET
DTSTART:20201025T030000
TZOFFSETFROM:+0200
TZOFFSETTO:+0100
RDATE:20211031T030000
RDATE:20221030T030000
END:STANDARD
BEGIN:DAYLIGHT
TZNAME:CEST
DTSTART:20210328T020000
TZOFFSETFROM:+0100
TZOFFSETTO:+0200
RDATE:20220327T020000
END:DAYLIGHT
END:VTIMEZONE
BEGIN:VEVENT
UID:31353564-6262-4036-a561-613939303136
DTSTAMP:20260421T142721Z
CATEGORIES:Folk & More
CLASS:PUBLIC
DESCRIPTION;ALTREP="CID:<FFFF__=0ABBE548DFE235B58f9e8a93d@coffeebean.com>":
 Yvonne Moore und Mat Callahan sind seit über 20 Jahren ein Team. Ihre Spie
 lfreude und Energie auf der Bühne ziehen sie aus der Kraft und Kontinuität
  ihrer langjährigen Zusammenarbeit auf und hinter der Bühne. Das Musikerpa
 ar verbindet mit ihrem Liedgut die Vergangenheit mit dem Heute und kämpft 
 für eine lebenswerte Zukunft.\nMit ihrem Programm „Working-Class Heroes“\,
  präsentieren sie eine Sammlung von amerikanischen Arbeiter- und Vorkriegs
 folksongs\, die sie für ein heutiges Publikum wiederbelebt haben. Lieder\,
  die sowohl von Volkskanon-Schwergewichten als auch von weniger bekannten\
 , aber ebenso begabten Songwritern geschrieben wurden. Daneben erklären si
 e auch deren Bedeutung\, Kontext und Geschichte. Sie erzählen von Frauen u
 nd Männern\, die – manchmal buchstäblich – ihr Leben für Streik\, Revolte 
 und Emanzipation der Arbeiterklasse hergaben.\nZu den Helden\, die im Prog
 ramm vorgestellt werden\, gehören Sarah Ogan Gunning\, Ralph Chaplin\, Woo
 dy Guthrie\, Ella May Wiggins\, Joe Hill\, Paul Robeson\, John Handcox\, A
 unt Molly Jackson\, Jim Garland und anonyme proletarische Songwriter\, der
 en Namen vergessen\, aber ihre Worte verewigt wurden. Schlicht\, schön und
  emotional fesselnd.\nYvonne Moore (voc\, harp)\, Mat Callahan (g\, voc)\n
 www.matandyvonne.com\n 
DTSTART:20210805T181500Z
DTEND:20210805T181500Z
GEO:00;0
LOCATION:
ORGANIZER:
SEQUENCE:1
SUMMARY:Yvonne Moore und Mat Callahan – «Working-Class Heroes»
TRANSP:OPAQUE
URL:https://www.esse.bar/index.php/veranstaltungen/vergangene-veranstaltung
 en/1420-yvonne-moore-und-mat-callahan-working-class-heroes/2021-08-05-20-1
 5
END:VEVENT
END:VCALENDAR
