BEGIN:VCALENDAR
VERSION:2.0
PRODID:-//ESSE Musicbar Winterthur//NONSGML kigkonsult.se iCalcreator 2.41.92//
CALSCALE:GREGORIAN
METHOD:PUBLISH
UID:30613030-3261-4533-b735-373266313135
X-WR-CALNAME:iCagenda
X-WR-CALDESC:Event Management Extension for Joomla!
X-WR-RELCALID:3E26604A-50F4-4449-8B3E-E4F4932D05B5
X-WR-TIMEZONE:Europe/Zurich
BEGIN:VTIMEZONE
TZID:Europe/Zurich
TZUNTIL:20230326T010000Z
BEGIN:STANDARD
TZNAME:CET
DTSTART:20201025T030000
TZOFFSETFROM:+0200
TZOFFSETTO:+0100
RDATE:20211031T030000
RDATE:20221030T030000
END:STANDARD
BEGIN:DAYLIGHT
TZNAME:CEST
DTSTART:20210328T020000
TZOFFSETFROM:+0100
TZOFFSETTO:+0200
RDATE:20220327T020000
END:DAYLIGHT
END:VTIMEZONE
BEGIN:VEVENT
UID:65616631-3236-4636-a464-613339323831
DTSTAMP:20260423T100723Z
CATEGORIES:Jazz
CLASS:PUBLIC
DESCRIPTION;ALTREP="CID:<FFFF__=0ABBE548DFE235B58f9e8a93d@coffeebean.com>":
 Stoffner - Kopf - Wettstein Trio | «Stringenz 432» ....tiefergestimmt – hö
 hergenossen!\nTiefstapler - Minimalisten - niedere Kunst?\nMitnichten! Her
 bie Kopf und seine zahlreichen Musikerkollegen zelebrieren in der neuen Se
 rie «Stringenz 432» exquisite Gitarrenmusik\, welche vom wärmeren und etwa
 s dunkleren Timbre der um 10Hz tiefergestimmten Klampfen profitiert! (A= 4
 32Hz\, anstatt 442Hz!).\nDie einzelnen Instrumente des Trios scheinen da w
 ie zu einem grossen homogenen Klangkörper zu verschmelzen\, und sowohl die
  Musiker untereinander\, wie auch die Zuhörenden fühlen sich näher miteina
 nder verbunden. Das wiederum fördert die Art des aufeinander Agierens und 
 Reagierens (Interplay) sehr stark. Aber keine Angst: Trotz alledem können 
 die geltenden Abstandsregeln (Covid19-Massnahmen) vorerst noch eingehalten
  werden... :-)\nZweites Trio der Serie «Stringenz 432»: Stoffner - Kopf - 
 Wettstein\nDer aussergewöhnliche Gitarrist und Klangmaler Flo Stoffner nim
 mt sich in dieser Trio-Besetzung mit dem eingespielten Gespann Kopf-Wettst
 ein (The Lefties) vornehmlich der Musik von Paul Motian und von Thelonious
  Monk an.\nEigenwillige Interpretationen von hymnischen Liedern\, explosiv
 en Unisono-Melodien und knorrigen Grooves verschmelzen zu einer betörenden
  Musik mit schillernden Farben und Schattierungen. Die drei hochkarätigen 
 Instrumentalisten treiben sich gegenseitig zu kreativen Höhenflügen an\, w
 o manchmal auch das Risiko des Sturzes droht... aber auf meist elegante We
 ise kriegen sie dann wieder eine Punktlandung hin!\nExklusive Première die
 ses Trios hier bei uns im Rahmen der Reihe «Stringenz 432».\nhttp://www.he
 rbiekopf.com
DTSTART:20210819T181500Z
DTEND:20210819T181500Z
GEO:00;0
LOCATION:
ORGANIZER:
SEQUENCE:1
SUMMARY:Herbie Kopf Stringenz 432
TRANSP:OPAQUE
URL:https://www.esse.bar/index.php/veranstaltungen/vergangene-veranstaltung
 en/1421-herbie-kopf-stringenz-432/2021-08-19-20-15
END:VEVENT
END:VCALENDAR
