BEGIN:VCALENDAR
VERSION:2.0
PRODID:-//ESSE Musicbar Winterthur//NONSGML kigkonsult.se iCalcreator 2.41.92//
CALSCALE:GREGORIAN
METHOD:PUBLISH
UID:64646138-6139-4264-a663-646634383638
X-WR-CALNAME:iCagenda
X-WR-CALDESC:Event Management Extension for Joomla!
X-WR-RELCALID:3E26604A-50F4-4449-8B3E-E4F4932D05B5
X-WR-TIMEZONE:Europe/Zurich
BEGIN:VTIMEZONE
TZID:Europe/Zurich
TZUNTIL:20230326T010000Z
BEGIN:STANDARD
TZNAME:CET
DTSTART:20201025T030000
TZOFFSETFROM:+0200
TZOFFSETTO:+0100
RDATE:20211031T030000
RDATE:20221030T030000
END:STANDARD
BEGIN:DAYLIGHT
TZNAME:CEST
DTSTART:20210328T020000
TZOFFSETFROM:+0100
TZOFFSETTO:+0200
RDATE:20220327T020000
END:DAYLIGHT
END:VTIMEZONE
BEGIN:VEVENT
UID:63633232-6132-4363-a562-343961383036
DTSTAMP:20260423T102139Z
CATEGORIES:Jazz
CLASS:PUBLIC
DESCRIPTION;ALTREP="CID:<FFFF__=0ABBE548DFE235B58f9e8a93d@coffeebean.com>":
 Don’t Forget The Poets – The Music Of Sting\nSting hat als Musiker wohl al
 les erreicht\, was möglich ist: Nach der Auflösung seiner super erfolgreic
 hen Band «The Police» startete der Sänger und Bassist aber erst richtig du
 rch. Seine Alben erreichen regelmässig Platin-Status und seine Tourneen fü
 hren ihn um die ganze Welt. Nebenbei engagiert sich Sting intensiv für Umw
 eltschutz und Menschenrechte.\nIm Rahmen der Reihe «Don’t Forget The Poets
 » nimmt sich der Winterthurer Bassist Andi Zitz – diesmal ohne den Pianist
 en Christian Rösli – der Musik des englischen Giganten an. Mit Hilfe des S
 axophonisten Raffaele Lunardi und des Schlagzeugers Tobias Hunziker sezier
 en sie als auf das Minimum reduzierte Jazz-Trio Stings oft fulminant produ
 zierte Songs auf das Wesentliche\, um den Glanz und die Poesie seiner Komp
 ositionen in einem ungewohnten Licht erscheinen zu lassen…\nDie beiden Win
 terthurer Berufsmusiker Christian Rösli am Klavier und Andreas Zitz am Kon
 trabass (mit Adrian Böckli am Schlagzeug bilden sie auch das bekannte «Ada
 lbert von Mörsberg»-Trio) gestalten jeden dritten Freitag im Monat einen T
 hemenabend. Gemeinsam mit wechselnden Gastmusiker*innen laden sie das Publ
 ikum auf eine Zeitreise in die Vergangenheit ein. Dabei fokussiert man sic
 h jeweils einen Abend lang auf einen Interpreten\, legendäre Aufnahmen ode
 r Stile vergangener Epochen.\nRaffaele Lunardi (s\, efx)\, Andreas Zitz (d
 b)\, Tobias Hunziker (dr)\nhttps://lunardimusic.chhttps://andreaszitz.chht
 tps://www.tobiashunziker.ch\n \n 
DTSTART:20210820T181500Z
DTEND:20210820T181500Z
GEO:00;0
LOCATION:
ORGANIZER:
SEQUENCE:1
SUMMARY:Don’t Forget The Poets #3 - «The Music of Sting»
TRANSP:OPAQUE
URL:https://www.esse.bar/index.php/veranstaltungen/vergangene-veranstaltung
 en/1422-adalbert-von-moersberg-trio-don-t-forget-the-poets/2021-08-20-20-1
 5
END:VEVENT
END:VCALENDAR
