BEGIN:VCALENDAR
VERSION:2.0
PRODID:-//ESSE Musicbar Winterthur//NONSGML kigkonsult.se iCalcreator 2.41.92//
CALSCALE:GREGORIAN
METHOD:PUBLISH
UID:32383939-6265-4265-b765-316263356665
X-WR-CALNAME:iCagenda
X-WR-CALDESC:Event Management Extension for Joomla!
X-WR-RELCALID:3E26604A-50F4-4449-8B3E-E4F4932D05B5
X-WR-TIMEZONE:Europe/Zurich
BEGIN:VTIMEZONE
TZID:Europe/Zurich
TZUNTIL:20230326T010000Z
BEGIN:STANDARD
TZNAME:CET
DTSTART:20201025T030000
TZOFFSETFROM:+0200
TZOFFSETTO:+0100
RDATE:20211031T030000
RDATE:20221030T030000
END:STANDARD
BEGIN:DAYLIGHT
TZNAME:CEST
DTSTART:20210328T020000
TZOFFSETFROM:+0100
TZOFFSETTO:+0200
RDATE:20220327T020000
END:DAYLIGHT
END:VTIMEZONE
BEGIN:VEVENT
UID:34663637-6365-4331-b433-643563653836
DTSTAMP:20260423T101735Z
CATEGORIES:Folk & More
CLASS:PUBLIC
DESCRIPTION;ALTREP="CID:<FFFF__=0ABBE548DFE235B58f9e8a93d@coffeebean.com>":
 Seit bald 30 Jahren ist Reto Burrell als Musiker\, Songschreiber und Produ
 zent aktiv. Reto Burrell schafft es\, Rock\, Pop\, Country\, Folk und Blue
 s zu seinem ganz eigenen Americana-Stil zu verschmelzen.\nHunderte von ges
 pielten Konzerten\, hunderte von geschriebenen Songs\, tausende von Arbeit
 sstunden in verschiedenen Aufnahmestudios rund um die Welt. Es gibt wohl n
 ichts von ihm erlebtes\, das Reto Burrell nicht in seine Songs miteinflies
 sen liess. Fragt man ihn nach dem Höhepunkt seiner Karriere\, sagt er besc
 heiden: „Das Grösste ist die Freude und Ehre\, neben dem Musikschaffen die
  Musik auch voll und ganz ausleben zu dürfen. Wo sonst\, wenn nicht im wah
 ren Leben\, entstehen Songs und deren Geschichten.“\nEs ist ihm egal wie g
 ross die Konzerstsäle sind\, in denen er auftritt. Es kommt auch nicht dar
 auf an\, wie viele Spotlichter über ihm auf der Bühne leuchten. Sein Ding 
 ist es\, das Publikum mit seinen Songs und der nimmermüden Performance in 
 den Bann zu ziehen.\nAn diesem Konzert wird uns Burrell queerbeet durch se
 in Musikschaffen führen. Aktuell arbeitet Reto mit seiner Band auch an neu
 em Songmaterial und wird uns sicher einige seiner «Frischlinge» an diesem 
 Abend präsentieren.\nReto Burrell (g\, voc)\, Lia Low (b)\, Marco Märchy (
 dr\, perc)\nhttp://www.retoburrell.ch
DTSTART:20210829T173000Z
DTEND:20210829T173000Z
GEO:00;0
LOCATION:
ORGANIZER:
SEQUENCE:1
SUMMARY:Reto Burrell Trio
TRANSP:OPAQUE
URL:https://www.esse.bar/index.php/veranstaltungen/vergangene-veranstaltung
 en/1423-reto-burrell-trio/2021-08-29-19-30
END:VEVENT
END:VCALENDAR
