BEGIN:VCALENDAR
VERSION:2.0
PRODID:-//ESSE Musicbar Winterthur//NONSGML kigkonsult.se iCalcreator 2.41.92//
CALSCALE:GREGORIAN
METHOD:PUBLISH
UID:61373439-6338-4430-b331-376239386637
X-WR-CALNAME:iCagenda
X-WR-CALDESC:Event Management Extension for Joomla!
X-WR-RELCALID:3E26604A-50F4-4449-8B3E-E4F4932D05B5
X-WR-TIMEZONE:Europe/Zurich
BEGIN:VTIMEZONE
TZID:Europe/Zurich
TZUNTIL:20230326T010000Z
BEGIN:STANDARD
TZNAME:CET
DTSTART:20201025T030000
TZOFFSETFROM:+0200
TZOFFSETTO:+0100
RDATE:20211031T030000
RDATE:20221030T030000
END:STANDARD
BEGIN:DAYLIGHT
TZNAME:CEST
DTSTART:20210328T020000
TZOFFSETFROM:+0100
TZOFFSETTO:+0200
RDATE:20220327T020000
END:DAYLIGHT
END:VTIMEZONE
BEGIN:VEVENT
UID:64343632-3537-4161-b866-336361356237
DTSTAMP:20260423T101842Z
CATEGORIES:Spezial-Anlass mit Eintritt
CLASS:PUBLIC
DESCRIPTION;ALTREP="CID:<FFFF__=0ABBE548DFE235B58f9e8a93d@coffeebean.com>":
 - Spezialkonzert mit Eintritt Fr. 40.00 / Fr. 35.00 -\nEr ist nicht nur de
 r um vier Jahre jüngere Bruder der Rock Legende Mick Jagger. Chris Jagger 
 hatte selbst eine bewegende Karriere. Allerdings konzentrierte er sich dab
 ei nicht nur auf die Musik\, sondern war im Laufe der Jahre auf vielen ver
 schiedenen Gebieten rund um die Musikbranche tätig.\nChris Jagger entwarf 
 Bühnen-Outfits für Rockgrössen wie Eric Clapton und Jimi Hendrix\, war als
  Journalist für das Musikmagazin ''Rolling Stone'' tätig\, schrieb Texte f
 ür die Stones-Scheiben 'Dirty Works' und 'Steel Wheels' und sang auch scho
 n mal bei Live-Auftritten background in der Band seines Bruders mit.\nSeit
  den 70er Jahren veröffentlicht Chris Jagger regelmässig eigene Alben. Dab
 ei erzielte er seinen bisher grössten musikalischen Erfolg im Jahr 1994 mi
 t dem Album ''Atcha''. Mit prominenter Unterstützung von u.a. David Gilmou
 r (Pink Floyd)\, Dave Stewart (Eurythmics)\, Leo Sayer und natürlich von s
 einem Bruder Mick Jagger\, zauberte er eine abenteuerliche Mischung aus Ro
 ck\, Zydeco\, Country\, Cajun\, Rhythm and Blues und World Music aus dem H
 ut\, die absolut stimmig gelang und auf zahlreichen Konzerten und Festival
 s für Begeisterung sorgte. Ein weiteres Album\, ''The Ridge'' (2009)\, wur
 de sogar von der Produzentenlegende Chris Kimsey abgemischt.\nUnd heute? D
 a hat sich Chris wieder mit dem Schreiben beschäftigt und neue Musik aufge
 nommen. Am 30. September erscheint seine Biographie «Talking to myself». U
 nd auch live ist er wieder unterwegs. Seine aktuelle Band ''Acoustic Roots
 '' besteht aus einem Trio mit und Elliet Mackrell (Violine) und Paul Atkin
 son (Schlagzeug). Wie der Bandname bereits verrät\, nähert sich Chris Jagg
 er erneut dem traditionellen Folk und Country. Es ist eine interessante Mi
 schung aus eigenen Liedern sowie ein paar Coversongs von Künstlern wie J.J
 . Cale oder John Lee Hooker. Das Ergebnis ist ein urtypischer Sound\, den 
 Liebhaber der Rolling Stones wohl mit dem Song ‘‘Dead Flowers‘‘ beschreibe
 n würden. Zu hören gibt es zusätzlich Nummern aus dem brandneuen Album «Mi
 xing Up The Medicine».\nChris Jagger (g\, voc)\, Elliet Mackrell (vl)\, Pa
 ul Atkinson (dr)\nNEW ALBUM: https://www.youtube.com/watch?v=NUSMwOmmiZoht
 tps://ChrisJagger.lnk.to/WaitinginLine\nwww.chrisjaggeronline.com
DTSTART:20210915T181500Z
DTEND:20210915T181500Z
GEO:00;0
LOCATION:
ORGANIZER:
SEQUENCE:1
SUMMARY:Chris Jagger & Acoustic Roots
TRANSP:OPAQUE
URL:https://www.esse.bar/index.php/veranstaltungen/vergangene-veranstaltung
 en/1424-chris-jagger-acoustic-roots/2021-09-15-20-15
END:VEVENT
END:VCALENDAR
