BEGIN:VCALENDAR
VERSION:2.0
PRODID:-//ESSE Musicbar Winterthur//NONSGML kigkonsult.se iCalcreator 2.41.92//
CALSCALE:GREGORIAN
METHOD:PUBLISH
UID:39353564-3162-4631-a263-306437663236
X-WR-CALNAME:iCagenda
X-WR-CALDESC:Event Management Extension for Joomla!
X-WR-RELCALID:3E26604A-50F4-4449-8B3E-E4F4932D05B5
X-WR-TIMEZONE:Europe/Zurich
BEGIN:VTIMEZONE
TZID:Europe/Zurich
TZUNTIL:20230326T010000Z
BEGIN:STANDARD
TZNAME:CET
DTSTART:20201025T030000
TZOFFSETFROM:+0200
TZOFFSETTO:+0100
RDATE:20211031T030000
RDATE:20221030T030000
END:STANDARD
BEGIN:DAYLIGHT
TZNAME:CEST
DTSTART:20210328T020000
TZOFFSETFROM:+0100
TZOFFSETTO:+0200
RDATE:20220327T020000
END:DAYLIGHT
END:VTIMEZONE
BEGIN:VEVENT
UID:66613663-6239-4333-a135-376432613566
DTSTAMP:20260423T100339Z
CATEGORIES:Jazz
CLASS:PUBLIC
DESCRIPTION;ALTREP="CID:<FFFF__=0ABBE548DFE235B58f9e8a93d@coffeebean.com>":
 Das neu besetzte Trio des deutsch-australischen und in Kreuzlingen aufgewa
 chsenen Pianisten Max Petersen spielt Musik mit unerwarteten Wendungen\, g
 eladenen Rhythmen und impressionistisch anmutenden Melodien. Erfahrung\, M
 ut und Vertrauen geben dieser Band Brillanz und musikalische Reife. Die Ko
 mpositionen des Pianisten liefern der Formation Raum für freies Spiel und 
 Interpretation. So schweifen sie von Jazz\, Swing und afroamerikanischer M
 usik über klassische Musik des 20. Jahrhunderts bis zur Melancholie der de
 utschen Romantik.\nDer breite musikalische Horizont der drei Musiker macht
  diesen Exkurs erst möglich: Max Petersen\, Grenzgänger zwischen seinem ak
 tuellen Wohnort Winterthur und der Jazzmetropole New York\, setzte sich au
 ch intensiv mit klassischer Musik auseinander. Kolja Legde\, gefragter Bas
 sist der Schweizer- und süddeutschen Szene studierte in Berlin am renommie
 rten Hanns-Eisler-Institut. Fabian Arends\, einer der gefragtesten Schlagz
 euger der deutschen Jazzszene\, wurde 2018 für einen Echo-Jazzpreis nomini
 ert und konzertierte unter anderem mit Lee Konitz\, Pablo Held und Nils Wo
 gram.\nDas Trio war nominiert für den ZKB Jazzpreis 2020 und Max Petersen 
 amtet als Artist in residence beim Jazzherbst Konstanz 2021.\nMax Petersen
  (p\, comp)\, Kolja Legde (db)\, Fabian Arends (dr)\nhttps://www.max-peter
 sen.com
DTSTART:20210923T181500Z
DTEND:20210923T181500Z
GEO:00;0
LOCATION:
ORGANIZER:
SEQUENCE:1
SUMMARY:Max Petersen Trio
TRANSP:OPAQUE
URL:https://www.esse.bar/index.php/veranstaltungen/vergangene-veranstaltung
 en/1425-max-petersen-trio/2021-09-23-20-15
END:VEVENT
END:VCALENDAR
