BEGIN:VCALENDAR
VERSION:2.0
PRODID:-//ESSE Musicbar Winterthur//NONSGML kigkonsult.se iCalcreator 2.41.92//
CALSCALE:GREGORIAN
METHOD:PUBLISH
UID:65376461-3330-4137-a263-353236616531
X-WR-CALNAME:iCagenda
X-WR-CALDESC:Event Management Extension for Joomla!
X-WR-RELCALID:3E26604A-50F4-4449-8B3E-E4F4932D05B5
X-WR-TIMEZONE:Europe/Zurich
BEGIN:VTIMEZONE
TZID:Europe/Zurich
TZUNTIL:20231029T010000Z
BEGIN:STANDARD
TZNAME:CET
DTSTART:20201025T030000
TZOFFSETFROM:+0200
TZOFFSETTO:+0100
RDATE:20211031T030000
RDATE:20221030T030000
END:STANDARD
BEGIN:DAYLIGHT
TZNAME:CEST
DTSTART:20210328T020000
TZOFFSETFROM:+0100
TZOFFSETTO:+0200
RDATE:20220327T020000
RDATE:20230326T020000
END:DAYLIGHT
END:VTIMEZONE
BEGIN:VEVENT
UID:31636230-6534-4939-a461-393761626365
DTSTAMP:20260423T102121Z
CATEGORIES:Jazz
CLASS:PUBLIC
DESCRIPTION;ALTREP="CID:<FFFF__=0ABBE548DFE235B58f9e8a93d@coffeebean.com>":
 Der Zürcher Musiker Felix Waldispühl alias «feelX» spannte im Januar 2019 
 mit dem international aktiven Trompeter Luca Calabrese aus Italien zusamme
 n\, um seine Piano-Kompositionen mit einer neuen Klangfarbe zu verbinden. 
 Im Mai nahmen Felix und Luca den Winterthurer Perkussionisten Martin Medim
 orec dazu\, um neue Stücke zu erarbeiten und schliesslich live in einer Ki
 rche ein ganzes Album aufzunehmen. Tanja Bosshart spielt zusätzlich die ir
 ische Rahmentrommel (Bodhràn). Die Live-Aufnahmen sind unter dem Titel «Th
 e Philosophy Of Light» erschienen.\nMit «The Science Of Fragility» liegt n
 un bereits das zweite Album des Quartetts in der Pipeline. Wiederum sind d
 ie Kompositionen ruhig und melancholisch gehalten\, Lucas Trompete bleibt 
 der Melodieträger. Die Umsetzung jedoch ist verfeinert und noch fliessende
 r geworden. Nach wie vor bleibt auch die Improvisation Teil des Konzepts. 
 Mit “Ambient-Space-Jazz“ umschreiben die Vier ihre Klangreisen ganz schön 
 treffend.\nFeelX (p\, comp)\, Luca Calabrese (tp)\, Martin Medimorec (vib\
 , perc)\, Tanja Bosshart (perc)\nwww.feelxmusic.chhttps://lucalab.jimdo.co
 m
DTSTART:20210930T181500Z
DTEND:20210930T181500Z
GEO:00;0
LOCATION:
ORGANIZER:
SEQUENCE:1
SUMMARY:FeelX - Luca Calabrese - Martin Medimorec - Tanja Bosshart
TRANSP:OPAQUE
URL:https://www.esse.bar/index.php/veranstaltungen/vergangene-veranstaltung
 en/1426-feelx-the-science-of-fragility/2021-09-30-20-15
END:VEVENT
END:VCALENDAR
