BEGIN:VCALENDAR
VERSION:2.0
PRODID:-//ESSE Musicbar Winterthur//NONSGML kigkonsult.se iCalcreator 2.41.92//
CALSCALE:GREGORIAN
METHOD:PUBLISH
UID:38646166-3337-4561-a139-313737303538
X-WR-CALNAME:iCagenda
X-WR-CALDESC:Event Management Extension for Joomla!
X-WR-RELCALID:3E26604A-50F4-4449-8B3E-E4F4932D05B5
X-WR-TIMEZONE:Europe/Zurich
BEGIN:VTIMEZONE
TZID:Europe/Zurich
TZUNTIL:20230326T010000Z
BEGIN:STANDARD
TZNAME:CET
DTSTART:20201025T030000
TZOFFSETFROM:+0200
TZOFFSETTO:+0100
RDATE:20211031T030000
RDATE:20221030T030000
END:STANDARD
BEGIN:DAYLIGHT
TZNAME:CEST
DTSTART:20210328T020000
TZOFFSETFROM:+0100
TZOFFSETTO:+0200
RDATE:20220327T020000
END:DAYLIGHT
END:VTIMEZONE
BEGIN:VEVENT
UID:32643461-6262-4631-b138-353163323564
DTSTAMP:20260423T100502Z
CATEGORIES:Blues
CLASS:PUBLIC
DESCRIPTION;ALTREP="CID:<FFFF__=0ABBE548DFE235B58f9e8a93d@coffeebean.com>":
 Auch in unserem diesjährigen «Sommerloch»-Programm bringen der Schweizer G
 itarrist\, Sänger und Bluesharp-Spieler Guscht Schmid alias «Mr. Pure Blue
 s» und der Rottweiler Musiker Jochen Braun («Mr. JB») ihr 'vielsaitiges' B
 lues-Projekt der Extraklasse auf unsere Bühne.\nIm Gepäck haben die beiden
  Vollblut-Blueser dabei jede Menge neu arrangierter Blues-Klassiker. Gusch
 t Schmid\, dessen Stil zwischen John Lee Hooker und Big Bill Broonzy zu ve
 rorten ist\, gehört seit vielen Jahren zu den festen Grössen der Nordschwe
 izer Liveszene. Zusammen mit Jochen Braun als Duopartner\, der sowohl an E
 - und Akustikgitarren\, als auch auf Dobros\, Mandoline\, Ukulele und Laps
 teel-Guitar überzeugt\, verleihen «Mr. Pure Blues &amp\; Mr. JB» den Songs
  einen neuen\, packenden Sound. Auf diese Weise hauchen sie selbst altgedi
 enten Blues-Heulern neue Frische ein und ziehen so das Publikum vom ersten
  Ton an in ihren Bann.\nGuscht Schmid (g\, voc\, harp\, stomp box)\, Joche
 n Braun (g\, lapsteel\, mand)\nwww.mr-pure-blues.com
DTSTART:20210812T181500Z
DTEND:20210812T181500Z
GEO:00;0
LOCATION:
ORGANIZER:
SEQUENCE:1
SUMMARY:Mr. Pure Blues & Mr. JB
TRANSP:OPAQUE
URL:https://www.esse.bar/index.php/veranstaltungen/vergangene-veranstaltung
 en/1427-mr-pure-blues-mr-jb/2021-08-12-20-15
END:VEVENT
END:VCALENDAR
