BEGIN:VCALENDAR
VERSION:2.0
PRODID:-//ESSE Musicbar Winterthur//NONSGML kigkonsult.se iCalcreator 2.41.92//
CALSCALE:GREGORIAN
METHOD:PUBLISH
UID:66633461-6562-4333-b961-373334646363
X-WR-CALNAME:iCagenda
X-WR-CALDESC:Event Management Extension for Joomla!
X-WR-RELCALID:3E26604A-50F4-4449-8B3E-E4F4932D05B5
X-WR-TIMEZONE:Europe/Zurich
BEGIN:VTIMEZONE
TZID:Europe/Zurich
TZUNTIL:20231029T010000Z
BEGIN:STANDARD
TZNAME:CET
DTSTART:20201025T030000
TZOFFSETFROM:+0200
TZOFFSETTO:+0100
RDATE:20211031T030000
RDATE:20221030T030000
END:STANDARD
BEGIN:DAYLIGHT
TZNAME:CEST
DTSTART:20210328T020000
TZOFFSETFROM:+0100
TZOFFSETTO:+0200
RDATE:20220327T020000
RDATE:20230326T020000
END:DAYLIGHT
END:VTIMEZONE
BEGIN:VEVENT
UID:33353465-3533-4631-a239-313939626165
DTSTAMP:20260423T114620Z
CATEGORIES:Jazz
CLASS:PUBLIC
DESCRIPTION;ALTREP="CID:<FFFF__=0ABBE548DFE235B58f9e8a93d@coffeebean.com>":
 Die zweifache Grammy-Preisträgerin\, die US-amerikanische Singer-Songwrite
 rin\, Sängerin\, Gitarristin und Pianistin Rickie Lee Jones prägte einen n
 euartigen und oft kopierten Stil des Song-Arrangements. Auf ihrem 1991 ers
 chienen Album «Pop Pop» aber ging sie komplett fremd. Nicht nur\, dass die
  versierte Songschreiberin darauf ausschliesslich Fremdkompositionen inter
 pretiert\, stammen diese auch noch aus den unterschiedlichsten Genres und 
 Epochen.\nZu hören gibt es da einen Tin-Pan- Alley-Schlager von 1926 ('Bye
  Bye Blackbird')\, Kompositionen aus den 30er und 50er Jahren\, die einmal
  Hits für einen Sänger namens Sinatra waren ('I'll Be Seeing You'\, 'My On
 e And Only Love')\, einen Jimi-Hendrix-Song ('Up From The Skies') und Mary
  Balins 1967 mit Jefferson Airplane eingespielte Ballade 'Comin' Back To M
 e'.\nLangsame Tempi unterstreichen die Tendenz zum kammermusikalischen Jaz
 z\, und Miss Jones greint und sprechsingt sich mit ihrer extrem variablen\
 , aber arg die Konsonanten vernuschelnden Kleinmädchenstimme bisweilen har
 t an der Grenze zum Manierismus durch die Songs. Melancholie ist die vorhe
 rrschende Stimmung\, und eine spektakuläre Aufnahmetechnik\, die jedes Luf
 tholen\, jeden Knopfdruck hörbar macht\, vermittelt auf dieser Platte die 
 fast greifbar intime\, livehaftige Wohnzimmeratmosphäre der Sessions.\nIm 
 Rahmen ihres Themen-Abends nehmen sich Christian Rösli (p) und Andreas Zit
 z (db) nun diesem Kult-Album an. Als Gast wirkt Andreas Tschopp an der Pos
 aune und wer könnte die Songs wohl besser interpretieren als Gabriela Krap
 f mit ihrer unglaublich vielfältigen Stimme. Das gab es so wohl noch nie. 
 Pop Pop.\nGabriela Krapf (voc)\, Andreas Tschopp (tb)\, Christian Rösli (p
 )\, Andreas Zitz (db)\nhttp://gabrielakrapf.chhttp://andreastschopp.com/wo
 rdpress/https://andreaszitz.ch
DTSTART:20211015T181500Z
DTEND:20211015T181500Z
GEO:00;0
LOCATION:
ORGANIZER:
SEQUENCE:1
SUMMARY:Don’t Forget The Poets #5 – «Rickie Lee Jones: Pop Pop»
TRANSP:OPAQUE
URL:https://www.esse.bar/index.php/veranstaltungen/vergangene-veranstaltung
 en/1432-don-t-forget-the-poets-5-rickie-lee-jones-pop-pop/2021-10-15-20-15
END:VEVENT
END:VCALENDAR
