BEGIN:VCALENDAR
VERSION:2.0
PRODID:-//ESSE Musicbar Winterthur//NONSGML kigkonsult.se iCalcreator 2.41.92//
CALSCALE:GREGORIAN
METHOD:PUBLISH
UID:63663564-3737-4332-b634-303333313866
X-WR-CALNAME:iCagenda
X-WR-CALDESC:Event Management Extension for Joomla!
X-WR-RELCALID:3E26604A-50F4-4449-8B3E-E4F4932D05B5
X-WR-TIMEZONE:Europe/Zurich
BEGIN:VTIMEZONE
TZID:Europe/Zurich
TZUNTIL:20230326T010000Z
BEGIN:STANDARD
TZNAME:CET
DTSTART:20201025T030000
TZOFFSETFROM:+0200
TZOFFSETTO:+0100
RDATE:20211031T030000
RDATE:20221030T030000
END:STANDARD
BEGIN:DAYLIGHT
TZNAME:CEST
DTSTART:20210328T020000
TZOFFSETFROM:+0100
TZOFFSETTO:+0200
RDATE:20220327T020000
END:DAYLIGHT
END:VTIMEZONE
BEGIN:VEVENT
UID:63623934-6433-4038-b237-323630396362
DTSTAMP:20260423T102001Z
CATEGORIES:Jazz
CLASS:PUBLIC
DESCRIPTION;ALTREP="CID:<FFFF__=0ABBE548DFE235B58f9e8a93d@coffeebean.com>":
 Georg Hofmann und Christoph Baumann begannen ihre Zusammenarbeit um die Ja
 hrhundertwende\, als Hofmann nach Duos mit dem Gitarristen Vinz Vonlanthen
  und Baumann\, beide zum Trio «Georg Hofmann’s Extensions» einlud. Nach me
 hreren Tournéen in der Schweiz erschien 2002 die CD „sit back and relax“ a
 uf dem Tessiner Label altrisuoni\, die von Radio DRS II produziert wurde u
 nd sowohl innerhalb wie ausserhalb der Schweiz grossen Anklang fand.\nNach
  zwei Jahren in Mexico City ergänzte Georg Hofmann das Trio mit den mexika
 nischen Musikern Remi Alvarez (sax) und Aaron Cruz (b) für eine Tour zum Q
 uintett.\n2005 entstand im Auftrag der langen Nacht der kurzen Geschichten
  in Zürich die musikalische Lesung „Extended Boris“ über „l’écume des jour
 s“ von Boris Vian\, zuerst mit Patrick Rapold\, danach mit Jaap Achterberg
  als Sprecher. Danach gingen «The Extensions» auseinander und es herrschte
  für lange Zeit Stille\, weil die Familie und ihre Integration in der Schw
 eiz für Georg Hofmann in den Mittelpunkt rückte.\nSeit einem virtuellen Ko
 nzert 2020 kehren Baumann und Hofmann zu den Anfängen im Duo zurück - dies
 mal mit all den gemeinsamen Erfahrungen im Gepäck - und spielen freie Impr
 ovisationen jenseits der damit oft einhergehenden Clichés. Alles ist erlau
 bt nach dem Motto „frei in“ statt „frei von“.\nSeit 2019 lebt Georg Hofman
 n mit seiner mexikanischen Frau wieder in Mexiko.\nChristoph Baumann (p)\,
  Georg Hofmann (dr)\nhttps://www.georghofmann.com\nInfos zu Christoph Baum
 ann:https://www.srf.ch/kultur/musik/jazz-pianist-tausendsassa-inferno-chri
 stoph-baumann
DTSTART:20210922T181500Z
DTEND:20210922T181500Z
GEO:00;0
LOCATION:
ORGANIZER:
SEQUENCE:1
SUMMARY:Christoph Baumann - Georg Hofmann
TRANSP:OPAQUE
URL:https://www.esse.bar/index.php/veranstaltungen/vergangene-veranstaltung
 en/1433-christoph-baumann-georg-hofmann/2021-09-22-20-15
END:VEVENT
END:VCALENDAR
