BEGIN:VCALENDAR
VERSION:2.0
PRODID:-//ESSE Musicbar Winterthur//NONSGML kigkonsult.se iCalcreator 2.41.92//
CALSCALE:GREGORIAN
METHOD:PUBLISH
UID:34393839-3163-4135-b165-613366326136
X-WR-CALNAME:iCagenda
X-WR-CALDESC:Event Management Extension for Joomla!
X-WR-RELCALID:3E26604A-50F4-4449-8B3E-E4F4932D05B5
X-WR-TIMEZONE:Europe/Zurich
BEGIN:VTIMEZONE
TZID:Europe/Zurich
TZUNTIL:20231029T010000Z
BEGIN:STANDARD
TZNAME:CET
DTSTART:20201025T030000
TZOFFSETFROM:+0200
TZOFFSETTO:+0100
RDATE:20211031T030000
RDATE:20221030T030000
END:STANDARD
BEGIN:DAYLIGHT
TZNAME:CEST
DTSTART:20210328T020000
TZOFFSETFROM:+0100
TZOFFSETTO:+0200
RDATE:20220327T020000
RDATE:20230326T020000
END:DAYLIGHT
END:VTIMEZONE
BEGIN:VEVENT
UID:62383839-6561-4438-a439-663066313335
DTSTAMP:20260423T114449Z
CATEGORIES:Jazz
CLASS:PUBLIC
DESCRIPTION;ALTREP="CID:<FFFF__=0ABBE548DFE235B58f9e8a93d@coffeebean.com>":
 Winterthurer Release-Konzert\nHeute geht gerne vergessen\, dass der Jazz n
 icht nur eine einzigartige Kunstform\, sondern auch eine soziale Musik ist
 . Dieser soziale Aspekt tritt insbesondere dort in den Vordergrund\, wo es
  nicht um epochale Innovationen oder gewagte Experimente geht\, sondern da
 rum\, ein 'Nachbarschaftspublikum' mit musikalischer Seelennahrung zu vers
 orgen. Darum spricht man in diesem Zusammenhang gerne von Soul Jazz.\nDer 
 Kern von ROOT AREA wird durch Grab\, den Hammond-Spezialisten Marcel Thomi
  und den Schlagzeuger Elmar Frey gebildet - sie waren über etliche Jahre e
 rfolgreich als Trio unterwegs. Nun wird die nächste Stufe gezündet: Mit ei
 nem aus Eigenkompositionen bestehenden Repertoire (8 x Grab\, 1 x Frey) un
 d mit exquisiter saxophonistischer Unterstützung durch Nicole Johänntgen u
 nd Victoria Mozalevskaya erscheint das Debütalbum von Christoph Grabs neue
 stem Projekt. Dank der exemplarischen Eingespieltheit des Trios und der sc
 hnellen Auffassungsgabe und beeindruckenden improvisatorischen Spontaneitä
 t von Johänntgen und Mozalevskaya\, dauerte es gerade mal einen Tag\, um d
 ie Scheibe von ROOT AREA einzuspielen. Beim Winterthurer Release-Konzert w
 ird neben dem Trio Nicole Johänntgen auf unserer Bühne stehen.\nROOT AREA 
 werden in Zukunft mit ihrer Energie und Spielfreude ganz sicher in vielen 
 verschiedenen Nachbarschaften für gute Laune und glühende Ohren sorgen.\nN
 icole Johänntgen (as)\, Christoph Grab (s\, comp)\, Marcel Thomi (Hammond 
 B3)\, Elmar Frey (dr\, comp)\, Victoria Mozalevskaya (ts)\, Axel Fischbach
 er (g)\nhttps://www.christophgrab.com/de/bands/root-area
DTSTART:20211013T181500Z
DTEND:20211013T181500Z
GEO:00;0
LOCATION:
ORGANIZER:
SEQUENCE:1
SUMMARY:Christoph Grab ROOT AREA feat. Nicole Johänntgen (as)\, Victoria Mo
 zalevskaya (ts) und Axel Fischbacher (g)
TRANSP:OPAQUE
URL:https://www.esse.bar/index.php/veranstaltungen/vergangene-veranstaltung
 en/1434-christoph-grab-root-area-soul-jazz/2021-10-13-20-15
END:VEVENT
END:VCALENDAR
