BEGIN:VCALENDAR
VERSION:2.0
PRODID:-//ESSE Musicbar Winterthur//NONSGML kigkonsult.se iCalcreator 2.41.92//
CALSCALE:GREGORIAN
METHOD:PUBLISH
UID:35333930-3034-4436-a463-373766376463
X-WR-CALNAME:iCagenda
X-WR-CALDESC:Event Management Extension for Joomla!
X-WR-RELCALID:3E26604A-50F4-4449-8B3E-E4F4932D05B5
X-WR-TIMEZONE:Europe/Zurich
BEGIN:VTIMEZONE
TZID:Europe/Zurich
TZUNTIL:20231029T010000Z
BEGIN:STANDARD
TZNAME:CET
DTSTART:20201025T030000
TZOFFSETFROM:+0200
TZOFFSETTO:+0100
RDATE:20211031T030000
RDATE:20221030T030000
END:STANDARD
BEGIN:DAYLIGHT
TZNAME:CEST
DTSTART:20210328T020000
TZOFFSETFROM:+0100
TZOFFSETTO:+0200
RDATE:20220327T020000
RDATE:20230326T020000
END:DAYLIGHT
END:VTIMEZONE
BEGIN:VEVENT
UID:64636366-6438-4062-b732-396663303864
DTSTAMP:20260423T113709Z
CATEGORIES:Jazz
CLASS:PUBLIC
DESCRIPTION;ALTREP="CID:<FFFF__=0ABBE548DFE235B58f9e8a93d@coffeebean.com>":
 Von Ella zu Adele\, von Louis zu Elvis\, von Sousa’s Band zu den Beatles\,
  das farbige\, abwechslungsreiche Programm von «Bernold’s Five» lässt mit 
 seinem bunten Panoptikum von Songs verblichene Zeiten für einen kurzen Mom
 ent wieder aufleben. Während ein\, zwei Stunden werden Sie in eine andere 
 Epoche entführt. Die Bernolds sind in ihrer Interpretation fest im Jazz ve
 rwurzelt – immer unterhaltend\, witzig und stilbewusst.\n«Bernold’s Five» 
 ist eine Band erfahrener Musiker\, die seit Jahren in vielen erfolgreichen
  Formationen in der ganzen Schweiz auftreten. Jedes Mitglied hat seinen St
 il und seine Lieblingsmusik ins Projekt eingebracht. So ist die Band keine
 m bestimmten Genre verpflichtet\, sondern orientiert sich ausschliesslich 
 an der Qualität und Originalität der Musik. Sie bleibt dabei inspiriert vo
 n der Freiheit und Kreativität des Jazz.\nJonas Knecht (s\, fl)\, Philipp 
 Rellstab (tp\, flh)\, Christoph Hegi (p)\, Hans Peter Künzle (db)\, Thomas
  Bernold (dr)
DTSTART:20211021T181500Z
DTEND:20211021T181500Z
GEO:00;0
LOCATION:
ORGANIZER:
SEQUENCE:1
SUMMARY:Bernold’s Five
TRANSP:OPAQUE
URL:https://www.esse.bar/index.php/veranstaltungen/vergangene-veranstaltung
 en/1435-bernold-s-five/2021-10-21-20-15
END:VEVENT
END:VCALENDAR
