BEGIN:VCALENDAR
VERSION:2.0
PRODID:-//ESSE Musicbar Winterthur//NONSGML kigkonsult.se iCalcreator 2.41.92//
CALSCALE:GREGORIAN
METHOD:PUBLISH
UID:63356233-6565-4262-b734-333262353165
X-WR-CALNAME:iCagenda
X-WR-CALDESC:Event Management Extension for Joomla!
X-WR-RELCALID:3E26604A-50F4-4449-8B3E-E4F4932D05B5
X-WR-TIMEZONE:Europe/Zurich
BEGIN:VTIMEZONE
TZID:Europe/Zurich
TZUNTIL:20230326T010000Z
BEGIN:STANDARD
TZNAME:CET
DTSTART:20201025T030000
TZOFFSETFROM:+0200
TZOFFSETTO:+0100
RDATE:20211031T030000
RDATE:20221030T030000
END:STANDARD
BEGIN:DAYLIGHT
TZNAME:CEST
DTSTART:20210328T020000
TZOFFSETFROM:+0100
TZOFFSETTO:+0200
RDATE:20220327T020000
END:DAYLIGHT
END:VTIMEZONE
BEGIN:VEVENT
UID:30373331-3831-4136-b064-363635633139
DTSTAMP:20260423T102008Z
CATEGORIES:Blues
CLASS:PUBLIC
DESCRIPTION;ALTREP="CID:<FFFF__=0ABBE548DFE235B58f9e8a93d@coffeebean.com>":
 Der Bandname ist Programm. Zwei Musiker – also vier Hände – spielen den Bl
 ues. Dabei wird alles weggelassen\, was weggelassen werden kann. Es gibt n
 ur Gesang\, Gitarre und Bass – das heisst Blues pur\, ehrlich\, geradlinig
 \, echt. Die Themen sind die einfachsten und ältesten\, die es gibt. Jeder
  und jede versteht\, worum es geht: Um die Gefühle\, die verrückt spielen 
 im Bauch\, die das Herz brechen\, die an den Rand des Wahnsinns treiben...
 \nAls die Brüder Patrik und Paul Schneider «4 Handful Of Blues» im August 
 2000 ins Leben riefen\, betraten sie - trotz langjähriger Erfahrung in bes
 etzungsmässig kleinen Formationen - Neuland. Zum ersten Mal mussten sie si
 ch der Herausforderung stellen\, einer Musik\, die stark durch Rhythmen ge
 prägt wird\, auch ohne Schlagzeug den nötigen Drive zu verleihen. Bei zahl
 reichen Konzerten wurde aber aus dem Duo rasch eine kompakte Einheit. Die 
 beiden harmonieren\, als hätten sie eine Art gemeinsames Bewusstsein. Der 
 Blues lebt allerdings nicht nur vom Groove allein\, sondern auch von den G
 eschichten\, die er erzählt. In diese Geschichten einzutauchen und das Pub
 likum dabei mitzunehmen – und dabei auch für «Noch-Nicht-Bluesliebhaber» e
 ine Tür zu öffnen –\, wurde zu einem wichtigen\, häufig amüsanten und selb
 stironischen Element der Liveshows von «4 Handful Of Blues».\nDas Repertoi
 re von «4 Handful Of Blues» besteht zu einem grossen Teil aus alten Klassi
 kern von Bluesmännern aus dem Mississippi Delta wie z. B. Robert Johnson\,
  Muddy Waters\, John Lee Hooker und Willie Dixon. Aber auch «modernere» St
 ücke\, z. B. von Stevie Ray Vaughan\, Robben Ford oder Keb' Mo' gehören da
 zu. Das Programm ist deshalb durchaus stilistisch vielseitig. Und dann gib
 t es da noch die «Hundesongs»\, welche von Scott Hendersons Album «Dog Par
 ty» stammen – einer von Patriks absoluten Lieblingsplatten.\nPatrik Schnei
 der (g\, voc)\, Paul Schneider (b)\nwww.patrikschneider.ch
DTSTART:20210827T181500Z
DTEND:20210827T181500Z
GEO:00;0
LOCATION:
ORGANIZER:
SEQUENCE:1
SUMMARY:4 Handful Of Blues
TRANSP:OPAQUE
URL:https://www.esse.bar/index.php/veranstaltungen/vergangene-veranstaltung
 en/1436-4-handful-of-blues/2021-08-27-20-15
END:VEVENT
END:VCALENDAR
