BEGIN:VCALENDAR
VERSION:2.0
PRODID:-//ESSE Musicbar Winterthur//NONSGML kigkonsult.se iCalcreator 2.41.92//
CALSCALE:GREGORIAN
METHOD:PUBLISH
UID:64303164-6566-4436-a466-353964383562
X-WR-CALNAME:iCagenda
X-WR-CALDESC:Event Management Extension for Joomla!
X-WR-RELCALID:3E26604A-50F4-4449-8B3E-E4F4932D05B5
X-WR-TIMEZONE:Europe/Zurich
BEGIN:VTIMEZONE
TZID:Europe/Zurich
TZUNTIL:20230326T010000Z
BEGIN:STANDARD
TZNAME:CET
DTSTART:20201025T030000
TZOFFSETFROM:+0200
TZOFFSETTO:+0100
RDATE:20211031T030000
RDATE:20221030T030000
END:STANDARD
BEGIN:DAYLIGHT
TZNAME:CEST
DTSTART:20210328T020000
TZOFFSETFROM:+0100
TZOFFSETTO:+0200
RDATE:20220327T020000
END:DAYLIGHT
END:VTIMEZONE
BEGIN:VEVENT
UID:35316535-3533-4238-a137-626234616361
DTSTAMP:20260423T101955Z
CATEGORIES:Folk & More
CLASS:PUBLIC
DESCRIPTION;ALTREP="CID:<FFFF__=0ABBE548DFE235B58f9e8a93d@coffeebean.com>":
 Simon Kempston aus Edinburgh gilt als einer der besten schottischen Songsc
 hreiber und einer der führenden Fingerstyle-Gitarristen. Simons ursprüngli
 ches\, unverwechselbares Gitarrenspiel offenbart seine klassische Ausbildu
 ng. Sein komplexer «finger-picking style» zieht seine Kraft aus dem Blues 
 sowie aus klassischen und keltischen Anleihen. Dieser subtile Folk-Stil ha
 rmoniert perfekt mit der kraftvollen und mitreissenden Tenor-Stimme\, welc
 he aber auch die leisen Töne beherrscht. Seine Songs haben schon etliche P
 reise gewonnen\, regen zum Nachdenken an\, sind inspirierend poetisch\, ko
 mmentieren aber auch politische und soziale Themen. Simons Interesse für A
 rchitektur\, Reisen und Literatur prägen seinen beeindruckenden lyrischen 
 Stil und schaffen Verse\, die auch ohne Musik für sich sprechen würden. \n
 Live-Auftritte leben von der intensiven Kommunikation zwischen Künstler un
 d Publikum. Simons Liebe zu Songs und Musik ist dabei immer spür- und erle
 bbar. In den vergangenen zehn Jahren tourte er durch 31 europäische Länder
  und spielte in Sibirien\, Usbekistan\, Kanada und Neuseeland. Er bringt a
 lso die Erfahrung unzähliger Konzerte\, Festivals und Auftritte bei intern
 ationalen Radio- und Fernsehsendern mit. \nKempston ist ein starker und in
 tensiver Live-Performer und seine wahre Leidenschaft für die Musik spiegel
 t sich in seinen Auftritten. Simons wortgewaltige Lyrik kombiniert mit gen
 ialen Kompositionen\, virtuosem Gitarrenspiel und grandioser Stimmbeherrsc
 hung machen ihn zu einem wirklich grossen Musiker dieser Tage.\nSimon Kemp
 ston (g\, voc)\nNeuestes Video:https://www.youtube.com/watch?v=HWPj-rwzFKs
 www.simonkempston.co.uk
DTSTART:20210825T181500Z
DTEND:20210825T181500Z
GEO:00;0
LOCATION:
ORGANIZER:
SEQUENCE:1
SUMMARY:Simon Kempston – «Hand On My Heart»
TRANSP:OPAQUE
URL:https://www.esse.bar/index.php/veranstaltungen/vergangene-veranstaltung
 en/1437-simon-kempston-hand-on-my-heart/2021-08-25-20-15
END:VEVENT
END:VCALENDAR
