BEGIN:VCALENDAR
VERSION:2.0
PRODID:-//ESSE Musicbar Winterthur//NONSGML kigkonsult.se iCalcreator 2.41.92//
CALSCALE:GREGORIAN
METHOD:PUBLISH
UID:62666265-3436-4730-b430-656335383062
X-WR-CALNAME:iCagenda
X-WR-CALDESC:Event Management Extension for Joomla!
X-WR-RELCALID:3E26604A-50F4-4449-8B3E-E4F4932D05B5
X-WR-TIMEZONE:Europe/Zurich
BEGIN:VTIMEZONE
TZID:Europe/Zurich
TZUNTIL:20230326T010000Z
BEGIN:STANDARD
TZNAME:CET
DTSTART:20201025T030000
TZOFFSETFROM:+0200
TZOFFSETTO:+0100
RDATE:20211031T030000
RDATE:20221030T030000
END:STANDARD
BEGIN:DAYLIGHT
TZNAME:CEST
DTSTART:20210328T020000
TZOFFSETFROM:+0100
TZOFFSETTO:+0200
RDATE:20220327T020000
END:DAYLIGHT
END:VTIMEZONE
BEGIN:VEVENT
UID:33613938-3665-4363-b765-373437613761
DTSTAMP:20260423T101600Z
CATEGORIES:Party
CLASS:PUBLIC
DESCRIPTION;ALTREP="CID:<FFFF__=0ABBE548DFE235B58f9e8a93d@coffeebean.com>":
 8-ung: Dies ist eine Veranstaltung des Vereins «Let’s dance 45».Aufgrund d
 er geltenden COVID-Regeln ist für alle Teilnehmenden ein «COVID»-Zertifika
 t» erforderlich!\nAlle Singles-Freundinnen und -Freunde kommen endlich wie
 der auf ihre Rechnung.\nErinnerst du dich?«How does that grab you darlin‘»
  – Nancy Sinatra«Big Yellow Taxi» – Joni Mitchell«Hard Rock Café» – Carol 
 King\nDas Team von «Let’s dance 45» ist nach langer Pause wieder in der ES
 SE zu Gast und lässt Tanzperlen aus der Blütezeit der Vinyl-Single erkling
 en. Bekannte und neue Songs werden Ihre Ohren umspielen und Sie zum Tanzen
  verführen.\nSelbstverständlich sind auch die beliebten ESSE-Barsnacks erh
 ältlich.\nEintritt CHF 20.– | Reduziertes Sitzplatzangebot | keine Platzre
 servation\nwww.letsdance45.ch
DTSTART:20210814T173000Z
DTEND:20210814T173000Z
GEO:00;0
LOCATION:
ORGANIZER:
SEQUENCE:1
SUMMARY:Let's dance 45
TRANSP:OPAQUE
URL:https://www.esse.bar/index.php/veranstaltungen/vergangene-veranstaltung
 en/1438-let-s-dance-45/2021-08-14-19-30
END:VEVENT
END:VCALENDAR
